BEGIN:VCALENDAR
VERSION:2.0
PRODID:-//wp-events-plugin.com//7.2.3.1//EN
TZID:Europe/Berlin
X-WR-TIMEZONE:Europe/Berlin
BEGIN:VEVENT
UID:5168@frauenportal.koeln
DTSTART;TZID=Europe/Berlin:20240903T170000
DTEND;TZID=Europe/Berlin:20240903T183000
DTSTAMP:20240828T150052Z
URL:https://frauenportal.koeln/veranstaltungen/fonds-sexueller-missbrauch-
 welche-moeglichkeiten-bietet-das-ergaenzende-hilfesystem-7/
SUMMARY:Fonds sexueller Missbrauch - welche Möglichkeiten bietet das Ergä
 nzende Hilfesystem
DESCRIPTION:Informationsveranstaltung für betroffene und interessierte Fra
 uen*.\n\nDer „Fonds sexueller Missbrauch“ kann Menschen\, die in Kindh
 eit und Jugend von (familiärer oder institutioneller) sexualisierter Gewa
 lt betroffen waren\, ergänzende Hilfeleistungen u.a. für therapeutische 
 Unterstützung zur Verfügung stellen. \n\nVom Fonds zertifiziert unterst
 ützt FrauenLeben e.V. die Antragsstellung im Rahmen der Beratungsarbeit. 
 \n\nBei dieser Veranstaltung werden Fragen geklärt\, u.a. zur Art von Hil
 feleistungen\, wer darauf Anspruch hat oder wie die Beantragung abläuft u
 nd von uns unterstützt wird.\n\nReferentinnen: \nSvenja Haas\, Arzu Kilic
  - Mitarbeiterinnen der Frauenberatungsstelle\n\nAnsprechpartnerin:\nMargr
 et Schnetgöke\, Tel.: 0221 / 954 16 60\, E-Mail: \nmail@frauenleben.org\n
 &nbsp\;\nKosten / Anmeldung:\nDie Veranstaltung ist kostenfrei. Anmeldung 
 erforderlich.\n\nVeranstaltungsort:\nonline
END:VEVENT
BEGIN:VTIMEZONE
TZID:Europe/Berlin
X-LIC-LOCATION:Europe/Berlin
BEGIN:DAYLIGHT
DTSTART:20240331T030000
TZOFFSETFROM:+0100
TZOFFSETTO:+0200
TZNAME:CEST
END:DAYLIGHT
END:VTIMEZONE
END:VCALENDAR