BEGIN:VCALENDAR
VERSION:2.0
PRODID:-//wp-events-plugin.com//7.2.3.1//EN
TZID:Europe/Berlin
X-WR-TIMEZONE:Europe/Berlin
BEGIN:VEVENT
UID:5614@frauenportal.koeln
DTSTART;TZID=Europe/Berlin:20250411T100000
DTEND;TZID=Europe/Berlin:20250411T113000
DTSTAMP:20250328T152414Z
URL:https://frauenportal.koeln/veranstaltungen/fonds-sexueller-missbrauch-
 welche-moeglichkeiten-bietet-das-ergaenzende-hilfesystem-9/
SUMMARY:Fonds sexueller Missbrauch - welche Möglichkeiten bietet das Ergä
 nzende Hilfesystem
DESCRIPTION:Informationsveranstaltung für Psychotherapeut*innen und Heilpr
 aktiker*innen für Psychotherapie\, die mit Frauen* arbeiten (möchten)\, 
 die sexualisierte Gewalt in ihrer Kindheit und Jugend erlebt haben.\n\nDer
  „Fonds sexueller Missbrauch“ kann Menschen\, die in Kindheit und Juge
 nd von (familiärer oder institutioneller) sexualisierter Gewalt betroffen
  waren\, ergänzende Hilfeleistungen u.a. für therapeutische Unterstützu
 ng zur Verfügung stellen. Beispielsweise\, wenn keine weiteren Therapiesi
 tzungen von der Krankenkasse übernommen werden oder die Therapie selbstge
 zahlt werden muss. Vom Fonds zertifiziert unterstützt FrauenLeben e.V. di
 e Antragsstellung im Rahmen der Beratungsarbeit.\nBei der Veranstaltung we
 rden Fragen geklärt\, u. a. zu Voraussetzungen\, die Therapeut*innen dazu
  qualifiziert\, die Behandlung mit dem Fonds abzurechnen und welche andere
 n Hilfeleistungen Ihre Patient*innen beantragen können.\n\nReferentin: \n
 Svenja Haas\, Mitarbeiterin der Frauenberatungsstelle\n\nAnsprechpartnerin
 :\nMargret Schnetgöke\, Tel.: 0221 / 954 16 60\, E-Mail: \nmail@frauenleb
 en.org\n\nKosten / Anmeldung:\nKosten: 20\,00 €\nAnmeldung erforderlich 
 unter \nmail@frauenleben.org\n\nVeranstaltungsort:\nonline
END:VEVENT
BEGIN:VTIMEZONE
TZID:Europe/Berlin
X-LIC-LOCATION:Europe/Berlin
BEGIN:DAYLIGHT
DTSTART:20250330T030000
TZOFFSETFROM:+0100
TZOFFSETTO:+0200
TZNAME:CEST
END:DAYLIGHT
END:VTIMEZONE
END:VCALENDAR