BEGIN:VCALENDAR
VERSION:2.0
PRODID:-//wp-events-plugin.com//7.2.3.1//EN
TZID:Europe/Berlin
X-WR-TIMEZONE:Europe/Berlin
BEGIN:VEVENT
UID:1063@frauenportal.koeln
DTSTART;TZID=Europe/Berlin:20180514T093000
DTEND;TZID=Europe/Berlin:20180514T113000
DTSTAMP:20180331T094645Z
URL:https://frauenportal.koeln/veranstaltungen/forum-am-montag-als-das-chr
 istentum-im-19-jahrhundert-nach-nordkorea-kam/
SUMMARY:Forum am Montag: Als das Christentum im 19. Jahrhundert nach Nordko
 rea kam…
DESCRIPTION:Prof. Dr. Sung-Hee Lee-Linke\, ev. Theologin und Studienleiteri
 n des Gemeindedienstes für Mission und Ökumene berichtet von Mission und
  Gotteserfahrungen in ihrer koreanischen Familie.\n\nReferent:\nProf. Dr. 
 Sung-Hee Lee-Linke\n\nVeranstalterin:\nEv. Kirchengemeinde Bensberg\n\nAns
 prechpartnerin:\nKarin-D. Witthöft\, Ehrenamtliche Frauenarbeit\, Tel.: 0
 2204 / 61165\, E-Mail: K_D.W@web.de\n\nKosten / Anmeldung:\nJede Frau jede
 n Alters und jeder Konfession ist willkommen – ob als aktive oder passiv
 e Teilnehmerin.\n\nVeranstaltungsort:\nEv. Gemeindehaus Kippekausen\, Am R
 ittersteg 1\, 51427 Bergisch-Gladbach (Refrath)\, [map id=961]
END:VEVENT
BEGIN:VTIMEZONE
TZID:Europe/Berlin
X-LIC-LOCATION:Europe/Berlin
BEGIN:DAYLIGHT
DTSTART:20180325T030000
TZOFFSETFROM:+0100
TZOFFSETTO:+0200
TZNAME:CEST
END:DAYLIGHT
END:VTIMEZONE
END:VCALENDAR