BEGIN:VCALENDAR
VERSION:2.0
PRODID:-//wp-events-plugin.com//7.2.3.1//EN
TZID:Europe/Berlin
X-WR-TIMEZONE:Europe/Berlin
BEGIN:VEVENT
UID:250@frauenportal.koeln
DTSTART;TZID=Europe/Berlin:20170424T093000
DTEND;TZID=Europe/Berlin:20170424T113000
DTSTAMP:20200501T084231Z
URL:https://frauenportal.koeln/veranstaltungen/forum-am-montag-der-lern-un
 d-gedenkort-jawne-in-koeln-24-april-2017-montag/
SUMMARY:Forum am Montag: Der Lern- und Gedenkort JAWNE in Köln 
DESCRIPTION:          \n\n  Ein christlich-jüdischer Beitrag gegen das Ver
 gessenFrau Müller-Wenk\, die ehrenamtlich im Lern- und Gedenkort JAWNE ar
 beitet\, wird an die bewegende Geschichte des Ortes\, der Lehrer und der K
 indern erinnern.Zu Beginn wird immer zu einem Frühstück eingeladen\, ans
 chließend folgt der Vortrag.Veranstalterin:Ev. Kirchengemeinde BensbergAn
 sprechpartnerin:Karin-D. Witthöft\, Ehrenamtliche Frauenarbeit\, Tel.: 02
 204 / 61165\, E-Mail: eval(decodeURIComponent('%76%61%72%20%73%3D%27%5F%4B
 %2E%44%40%57%65%77%2E%62%65%64%27%3B%76%61%72%20%72%3D%27%27%3B%66%6F%72%2
 8%76%61%72%20%69%3D%30%3B%69%3C%73%2E%6C%65%6E%67%74%68%3B%69%2B%2B%2C%69%
 2B%2B%29%7B%72%3D%72%2B%73%2E%73%75%62%73%74%72%69%6E%67%28%69%2B%31%2C%69
 %2B%32%29%2B%73%2E%73%75%62%73%74%72%69%6E%67%28%69%2C%69%2B%31%29%7D%64%6
 F%63%75%6D%65%6E%74%2E%77%72%69%74%65%28%27%3C%61%20%68%72%65%66%3D%22%6D%
 61%69%6C%74%6F%3A%27%2B%72%2B%27%22%3E%4B%5F%44%2E%57%40%77%65%62%2E%64%65
 %3C%2F%61%3E%27%29%3B'))Kosten / Anmeldung:Jede Frau jeden Alters und jede
 r Konfession ist willkommen – ob als aktive oder passive Teilnehmerin.Ve
 ranstaltungsort:Ev. Gemeindehaus Kippekausen\, Am Rittersteg 1\, 51427 Ber
 gisch-Gladbach (Refrath)\, Lageplan
END:VEVENT
BEGIN:VTIMEZONE
TZID:Europe/Berlin
X-LIC-LOCATION:Europe/Berlin
BEGIN:DAYLIGHT
DTSTART:20170326T030000
TZOFFSETFROM:+0100
TZOFFSETTO:+0200
TZNAME:CEST
END:DAYLIGHT
END:VTIMEZONE
END:VCALENDAR