BEGIN:VCALENDAR
VERSION:2.0
PRODID:-//wp-events-plugin.com//7.2.3.1//EN
TZID:Europe/Berlin
X-WR-TIMEZONE:Europe/Berlin
BEGIN:VEVENT
UID:2065@frauenportal.koeln
DTSTART;TZID=Europe/Berlin:20191104T093000
DTEND;TZID=Europe/Berlin:20191104T113000
DTSTAMP:20190830T163457Z
URL:https://frauenportal.koeln/veranstaltungen/forum-am-montag-humor-ist-u
 eberwundenes-leiden-an-der-welt/
SUMMARY:Forum am Montag: Humor ist überwundenes Leiden an der Welt
DESCRIPTION:Warum Sterbebegleitung nicht immer todernst sein muss?\nDer Kab
 arettist Ferdinand Linzenich aus Bergisch Gladbach beim Forum am Montag.\n
 \nVeranstalterin:\nEv. Kirchengemeinde Bensberg\n\nAnsprechpartnerin:\nKar
 in-D. Witthöft\, Ehrenamtliche Frauenarbeit\, Tel.: 02204 / 61165\, E-Mai
 l: K_D.W@web.de\n\nKosten / Anmeldung:\nJede Frau jeden Alters und jeder K
 onfession ist willkommen – ob als aktive oder passive Teilnehmerin.\n\nV
 eranstaltungsort:\nEv. Gemeindehaus Kippekausen\, Am Rittersteg 1\, 51427 
 Bergisch-Gladbach (Refrath)\, [map id=961]
END:VEVENT
BEGIN:VTIMEZONE
TZID:Europe/Berlin
X-LIC-LOCATION:Europe/Berlin
BEGIN:STANDARD
DTSTART:20191027T020000
TZOFFSETFROM:+0200
TZOFFSETTO:+0100
TZNAME:CET
END:STANDARD
END:VTIMEZONE
END:VCALENDAR