BEGIN:VCALENDAR
VERSION:2.0
PRODID:-//wp-events-plugin.com//7.2.3.1//EN
TZID:Europe/Berlin
X-WR-TIMEZONE:Europe/Berlin
BEGIN:VEVENT
UID:2833@frauenportal.koeln
DTSTART;TZID=Europe/Berlin:20201005T100000
DTEND;TZID=Europe/Berlin:20201005T113000
DTSTAMP:20200831T160345Z
URL:https://frauenportal.koeln/veranstaltungen/forum-am-montag-mein-vorlet
 zter-wille/
SUMMARY:Forum am Montag: Mein „vorletzter Wille“
DESCRIPTION:- Vorsorgevollmacht und Patientenverfügung -\nWas kann ich im 
 Blick auf mein Lebensende regeln und wie wird damit umgegangen?\nReferent:
  Pastor Dr. Rainer Fischer\, Seelsorger des Ev. Krankenhauses Bergisch Gla
 dbach und Ethikberater im Gesundheitswesen.\n\nVeranstalterin:\nEv. Kirche
 ngemeinde Bensberg\n\nAnsprechpartnerin:\nKarin-D. Witthöft\, Ehrenamtlic
 he Frauenarbeit\, Tel.: 02204 / 61165\, E-Mail: K_D.W@web.de\n\nKosten / A
 nmeldung:\nZurzeit wird kein Frühstück angeboten – wegen des Coronavir
 us’.\nEs wird gebeten die Hygieneregeln zu beachten und einen Mund-Nase-
 Schutz mitzubringen!\nJede Frau jeden Alters und jeder Konfession ist will
 kommen – ob als aktive oder passive Teilnehmerin.\n\nVeranstaltungsort:\
 nZeltkirche Kippekausen\, Am Rittersteg 1\, 51427 Bergisch-Gladbach (Refra
 th)\, [map id=961]
END:VEVENT
BEGIN:VTIMEZONE
TZID:Europe/Berlin
X-LIC-LOCATION:Europe/Berlin
BEGIN:DAYLIGHT
DTSTART:20200329T030000
TZOFFSETFROM:+0100
TZOFFSETTO:+0200
TZNAME:CEST
END:DAYLIGHT
END:VTIMEZONE
END:VCALENDAR