BEGIN:VCALENDAR
VERSION:2.0
PRODID:-//wp-events-plugin.com//7.2.3.1//EN
TZID:Europe/Berlin
X-WR-TIMEZONE:Europe/Berlin
BEGIN:VEVENT
UID:4199@frauenportal.koeln
DTSTART;TZID=Europe/Berlin:20230227T094500
DTEND;TZID=Europe/Berlin:20230227T113000
DTSTAMP:20230103T100408Z
URL:https://frauenportal.koeln/veranstaltungen/forum-am-montag-von-der-arb
 eitertochter-zur-akademikerin/
SUMMARY:Forum am Montag: Von der Arbeitertochter zur Akademikerin
DESCRIPTION:Die Migrationsgeschichte aus muslimischen Ländern besteht scho
 n 60 Jahre. Seitdem werden muslimische Frauen in Deutschland\, wenn sie ü
 berhaupt gesehen werden\, in einer passiven und untergebenen Position wahr
 genommenen. Können muslimische Frauen außer Haushalt und gering qualifiz
 ierten Tätigkeiten noch anderes leisten? Diesen und weiteren Fragen wird 
 nachgegangen\, indem Einblick in die verschiedenen Lebenswelten muslimisch
 er Frauen gegeben wird und einige Beispiele dieser Vielfalt kennengelernt 
 werden.\n\nReferentin: \nBirsen Ürek\, Begegnungs- und Fortbildungszentru
 m muslimischer Frauen e. V.\, www.bfmf-koeln.de\n\nVeranstalterin:\nEv. Ki
 rchengemeinde Bensberg\n\nAnsprechpartnerin:\nKarin-D. Witthöft\, Ehrenam
 tliche Frauenarbeit\, Tel.: 02204 / 61165\, E-Mail: K_D.W@web.de\n\nKosten
  / Anmeldung:\nEvtl. wird ein Frühstück angeboten.\nJede Frau jeden Alte
 rs und jeder Konfession ist willkommen – ob als aktive oder passive Teil
 nehmerin.
LOCATION:Ev. Gemeindehaus Kippekausen\, Am Rittersteg 1\, 51427 Bergisch-Gl
 adbach
GEO:50.9585;7.1264
X-APPLE-STRUCTURED-LOCATION;VALUE=URI;X-ADDRESS=Am Rittersteg 1\, Bergisch-
 Gladbach\, 51427\, Veranstaltungsort\, Deutschland;X-APPLE-RADIUS=100;X-TI
 TLE=Ev. Gemeindehaus Kippekausen:geo:50.9585,7.1264
END:VEVENT
BEGIN:VTIMEZONE
TZID:Europe/Berlin
X-LIC-LOCATION:Europe/Berlin
BEGIN:STANDARD
DTSTART:20221030T020000
TZOFFSETFROM:+0200
TZOFFSETTO:+0100
TZNAME:CET
END:STANDARD
END:VTIMEZONE
END:VCALENDAR