BEGIN:VCALENDAR
VERSION:2.0
PRODID:-//wp-events-plugin.com//7.2.3.1//EN
TZID:Europe/Berlin
X-WR-TIMEZONE:Europe/Berlin
BEGIN:VEVENT
UID:2614@frauenportal.koeln
DTSTART;TZID=Europe/Berlin:20200316T093000
DTEND;TZID=Europe/Berlin:20200316T113000
DTSTAMP:20200131T125414Z
URL:https://frauenportal.koeln/veranstaltungen/forum-am-montag-von-traeume
 n-und-baeumen-ein-alphabetisierungsprojekt-in-aethiopien/
SUMMARY:Forum am Montag: Von Träumen und Bäumen – Ein Alphabetisierungs
 projekt in Äthiopien
DESCRIPTION:Nach einem gemeinsamen Frühstück gibt einen Vortrag:\n\nNoch 
 immer gibt es Volksgruppen\, die bisher nur davon träumen\, ihre eigene S
 prache lesen und schreiben\, geschweige denn das Neue Testament in ihrer M
 uttersprache lesen zu können.\n\nDie Referentin Ute Olschowy arbeitet sei
 t drei Jahren an der Verschriftlichung der Tsaara Sprache.\nWie es zur Ver
 wirklichung dieses Traumes kam und was das alles mit bestimmten in Äthiop
 ien typischen Bäumen zu tun hat\, soll im Vortrag berichtet werden.\n\nVe
 ranstalterin:\nEv. Kirchengemeinde Bensberg\n\nAnsprechpartnerin:\nKarin-D
 . Witthöft\, Ehrenamtliche Frauenarbeit\, Tel.: 02204 / 61165\, E-Mail: K
 _D.W@web.de\n\nKosten / Anmeldung:\nJede Frau jeden Alters und jeder Konfe
 ssion ist willkommen – ob als aktive oder passive Teilnehmerin.\n\nVeran
 staltungsort:\nEv. Gemeindehaus Kippekausen\, Am Rittersteg 1\, 51427 Berg
 isch-Gladbach (Refrath)\, [map id=961]
END:VEVENT
BEGIN:VTIMEZONE
TZID:Europe/Berlin
X-LIC-LOCATION:Europe/Berlin
BEGIN:STANDARD
DTSTART:20191027T020000
TZOFFSETFROM:+0200
TZOFFSETTO:+0100
TZNAME:CET
END:STANDARD
END:VTIMEZONE
END:VCALENDAR