BEGIN:VCALENDAR
VERSION:2.0
PRODID:-//wp-events-plugin.com//7.2.3.1//EN
TZID:Europe/Berlin
X-WR-TIMEZONE:Europe/Berlin
BEGIN:VEVENT
UID:4408@frauenportal.koeln
DTSTART;TZID=Europe/Berlin:20231028T100000
DTEND;TZID=Europe/Berlin:20231028T170000
DTSTAMP:20230922T123800Z
URL:https://frauenportal.koeln/veranstaltungen/forum-diversitaet/
SUMMARY:Forum Diversität
DESCRIPTION:Aus der Ankündigung:\n\n"Worum geht es?\nWir verstehen Diversi
 tät als ein Konzept\, bei dem es darum geht\, Unterschiede von Gruppen od
 er Individuen ohne Wertung anzuerkennen. Es ist eine zeitgemäße Antwort 
 auf eine Gesellschaft im Wandel. Diversität bezieht sich dabei auf versch
 iedene Dimensionen wie Geschlecht und Geschlechtsidentität\, ethnische He
 rkunft\, Religion oder Weltanschauung\, geistige und körperliche Fähigke
 iten\, Alter\, sexuelle Orientierung und Identität\, sowie soziale Herkun
 ft. Diversität ebenso wie Geschlechtergerechtigkeit ist eine Frage der De
 mokratie und der Teilhabe.\nWie können wir voneinander lernen? Entdecke i
 ch neue Perspektiven für mich? Wer kommt zu Wort? Wie werden Ressourcen v
 erteilt?\nDas sind Fragen\, die wir uns ebenfalls stellen. Sie spiegeln ei
 ne Diskussion um Inhalte und Labels wider.\n\nWas erwartet dich?\nEin bunt
 er Mix an Workshops\, offener Raum zur Diskussion\, Spoken Word und ganz v
 iel Austausch und Vernetzung.\nUnsere Workshops bieten einen Einblick in e
 inzelne Themen von Diversität und Gleichstellung. Inputs ermöglichen dab
 ei eine Basis und Grundlage\, es wird auch Raum zum Austausch untereinande
 r geben\, um gemeinsam mögliche Lösungsansätze und Strategien zu finden
  und zu diskutieren.\nIn der Mittagszeit besteht die Möglichkeit in einem
  offenen Raum zu bestimmten Fragen mit uns und untereinander ins Gespräch
  zu kommen. Ihr habt aber auch die Gelegenheit zu einer Yoga-Einheit oder 
 könnt chillen.\nZudem findet im Anschluss an die Präsenz-Veranstaltung i
 n Köln noch ein online Workshop zum Thema Anti-Rassismus mit Tsepo Bollwi
 nkel statt."\n\nTermin Online-Workshop:\n10. November 2023\, 15.30-19.15 U
 hr \n\nHier geht es zur Einladung: www.fes.de/forum-diversitaet\n\nDies is
 t der Flyer: Forum_Diversitaet_Einladung (pdf-Datei\, 347 KB)\n\nVeranstal
 terinnen:\n\n 	Friedrich-Ebert-Stiftung\, Landesbüro NRW\, www.fes.de\n 	
 Gender Netzwerk NRW\, www.netzwerk-fgf.nrw.de\n        VHS Köln\, www.vhs
 -koeln.de\n\nAnsprechpartnerin:\nJeanette Rußbült\, Friedrich-Ebert-Stif
 tung\, Landesbüro NRW\, Tel. 0228 / 883 - 7210\, E-Mail: jeanette.russbue
 lt@fes.de\n\nKosten / Anmeldung:\nKeine Kosten\, Anmeldung unter www.fes.d
 e/veranstaltungen/veranstaltungsdetail/267816\n\nIm Forum VHS im Rautenstr
 auch-Joest-Museum
LOCATION:Rautenstrauch-Joest-Museum - Kulturen der Welt\, Cäcilienstr. 29-
 33\, 50667 Köln
GEO:50.93432;6.95031
X-APPLE-STRUCTURED-LOCATION;VALUE=URI;X-ADDRESS=Cäcilienstr. 29-33\, Köln
 \, 50667\, Veranstaltungsort\, Deutschland;X-APPLE-RADIUS=100;X-TITLE=Raut
 enstrauch-Joest-Museum - Kulturen der Welt:geo:50.93432,6.95031
END:VEVENT
BEGIN:VTIMEZONE
TZID:Europe/Berlin
X-LIC-LOCATION:Europe/Berlin
BEGIN:DAYLIGHT
DTSTART:20230326T030000
TZOFFSETFROM:+0100
TZOFFSETTO:+0200
TZNAME:CEST
END:DAYLIGHT
END:VTIMEZONE
END:VCALENDAR