BEGIN:VCALENDAR
VERSION:2.0
PRODID:-//wp-events-plugin.com//7.2.3.1//EN
TZID:Europe/Berlin
X-WR-TIMEZONE:Europe/Berlin
BEGIN:VEVENT
UID:4663@frauenportal.koeln
DTSTART;TZID=Europe/Berlin:20240405T120000
DTEND;TZID=Europe/Berlin:20240405T123000
DTSTAMP:20250407T081705Z
URL:https://frauenportal.koeln/veranstaltungen/foto-lunch-2024-04-05/
SUMMARY:Foto Lunch
DESCRIPTION:– Jeweils der 1. und der 3. Freitag im Monat –\n\nRebecca L
 enz zu ihrem Angebot:\n\n"Kennst Du das?\nBegriffe\, die Dir nichts sagen
 … 🤔\nDeine Kamera tut nicht\, was sie soll… 🤷🏼‍♀️\n\nDi
 e Welt der Fotografie ist voller kleiner Stolperfallen und genau die gehen
  wir in unserem neuen Format Foto Lunch an.\n\nZweimal im Monat gibt es ei
 n kurzes Webinar\, das Du prima in Deine Mittagspause einbauen kannst. Hie
 r behandeln wir die unterschiedlichsten Themen rund um die Fotografie.\n\n
 Und keine Sorge\, falls Du einmal nicht live an einem Termin teilnehmen ka
 nnst. Denn es gibt auch eine Aufzeichnung\, mit der Du zu einem Dir passen
 den Zeitpunkt das jeweilige Thema nachholen kannst.\n\nDie Teilnahme koste
 t 35 EUR pro Monat und ist jederzeit zum Ablauf des aktuellen Monats künd
 bar."
END:VEVENT
BEGIN:VTIMEZONE
TZID:Europe/Berlin
X-LIC-LOCATION:Europe/Berlin
BEGIN:DAYLIGHT
DTSTART:20240331T030000
TZOFFSETFROM:+0100
TZOFFSETTO:+0200
TZNAME:CEST
END:DAYLIGHT
END:VTIMEZONE
END:VCALENDAR