BEGIN:VCALENDAR
VERSION:2.0
PRODID:-//wp-events-plugin.com//7.2.3.1//EN
TZID:Europe/Berlin
X-WR-TIMEZONE:Europe/Berlin
BEGIN:VEVENT
UID:4659@frauenportal.koeln
DTSTART;TZID=Europe/Berlin:20240105T120000
DTEND;TZID=Europe/Berlin:20240105T123000
DTSTAMP:20250407T081615Z
URL:https://frauenportal.koeln/veranstaltungen/foto-lunch/
SUMMARY:Foto Lunch
DESCRIPTION:– Jeweils der 1. und der 3. Freitag im Monat –\n\nRebecca L
 enz zu ihrem Angebot:\n\n"Kennst Du das?\nBegriffe\, die Dir nichts sagen
 … 🤔\nDeine Kamera tut nicht\, was sie soll… 🤷🏼‍♀️\n\nDi
 e Welt der Fotografie ist voller kleiner Stolperfallen und genau die gehen
  wir in unserem neuen Format Foto Lunch an.\n\nZweimal im Monat gibt es ei
 n kurzes Webinar\, das Du prima in Deine Mittagspause einbauen kannst. Hie
 r behandeln wir die unterschiedlichsten Themen rund um die Fotografie.\n\n
 Und keine Sorge\, falls Du einmal nicht live an einem Termin teilnehmen ka
 nnst. Denn es gibt auch eine Aufzeichnung\, mit der Du zu einem Dir passen
 den Zeitpunkt das jeweilige Thema nachholen kannst.\n\nDie Teilnahme koste
 t 35 EUR pro Monat und ist jederzeit zum Ablauf des aktuellen Monats künd
 bar. "
END:VEVENT
BEGIN:VTIMEZONE
TZID:Europe/Berlin
X-LIC-LOCATION:Europe/Berlin
BEGIN:STANDARD
DTSTART:20231029T020000
TZOFFSETFROM:+0200
TZOFFSETTO:+0100
TZNAME:CET
END:STANDARD
END:VTIMEZONE
END:VCALENDAR