BEGIN:VCALENDAR
VERSION:2.0
PRODID:-//wp-events-plugin.com//7.2.3.1//EN
TZID:Europe/Berlin
X-WR-TIMEZONE:Europe/Berlin
BEGIN:VEVENT
UID:4729@frauenportal.koeln
DTSTART;TZID=Europe/Berlin:20240403T160000
DTEND;TZID=Europe/Berlin:20240403T180000
DTSTAMP:20240229T140611Z
URL:https://frauenportal.koeln/veranstaltungen/foto-workshop-kamera-grundl
 agen-2/
SUMMARY:Foto-Workshop Kamera-Grundlagen
DESCRIPTION:Rebecca Lenz zu ihrem Angebot:\n\n"Wenn Du gerade erst mit der 
 Fotografie anfängst\, ist dies genau der richtige Workshop für Dich. Wir
  schauen uns Deine Kamera an und gehen durch die wichtigsten Punkte\, dami
 t Du verstehst\, wie Deine Kamera funktioniert\, und Du sie besser benutze
 n kannst.\n\nDer Workshop richtet sich rein an Frauen und findet in einem 
 kleinen Rahmen mit bis zu max. 4 Teilnehmerinnen statt.\n\nDie Kursgebühr
  beträgt 75 EUR.\nVeranstaltungsort ist Leverkusen.\n\nMehr Informationen
  und Anmeldung unter: https://rlenzphoto.de/workshops/grundlagen/ &quot\;
END:VEVENT
BEGIN:VTIMEZONE
TZID:Europe/Berlin
X-LIC-LOCATION:Europe/Berlin
BEGIN:DAYLIGHT
DTSTART:20240331T030000
TZOFFSETFROM:+0100
TZOFFSETTO:+0200
TZNAME:CEST
END:DAYLIGHT
END:VTIMEZONE
END:VCALENDAR