BEGIN:VCALENDAR
VERSION:2.0
PRODID:-//wp-events-plugin.com//7.2.3.1//EN
TZID:Europe/Berlin
X-WR-TIMEZONE:Europe/Berlin
BEGIN:VEVENT
UID:1197@frauenportal.koeln
DTSTART;TZID=Europe/Berlin:20180808T110000
DTEND;TZID=Europe/Berlin:20180808T173000
DTSTAMP:20180731T143043Z
URL:https://frauenportal.koeln/veranstaltungen/fotosafari-in-der-koelner-a
 ltstadt/
SUMMARY:„Fotosafari“ in der Kölner Altstadt
DESCRIPTION:Die Kölner Altstadt hat viele größere und kleinere Sehenswü
 rdigkeiten zu bieten\, die von Millionen Tourist*innen in jedem Jahr fotog
 rafiert werden. Aber es gibt darüber hinaus auch so manches Schöne\, Ori
 ginelle\, Erstaunliche\, Einmalige zu entdecken (und wenn es die Tourist*i
 nnen selbst sind).\n\nDie Teilnehmerinnen sind einen Vormittag lang mit de
 r eigenen Digitalkamera auf „Fotosafari“ in der Kölner Altstadt unter
 wegs und schauen sich am Nachmittag gemeinsam die „Trophäen“ an.\n\nK
 leine Bildkorrekturen oder umfängliche Bearbeitungen können nach dem Wor
 kshop durchgeführt werden. Auf Wunsch können die eigenen Motive auch als
  hochwertiger Fotodruck auf schwarz durchgefärbten MDF-Platten hergestell
 t werden (nicht im Preis enthalten).\n\nZeitplan:\n\n11 Uhr Treffen im Beg
 inenfenster\, Besprechung des Vorhabens\,\ndanach „Fotosafari“ in der 
 Altstadt\n13 Uhr Treffen im Beginenfenster\, kleiner Imbiss\n14 Uhr Sichtu
 ng und Vorführung der Fotos über Computer und Beamer\nBesprechung von Ko
 rrekturwünschen\n16 Uhr Abschluss bei Kaffee und Kuchen\n\nMitzubringen: 
 eigene Digitalkamera\, Übertragungskabel für den Computer\n\nReferentin:
 \nIngeborg Thranberend\n\nVeranstalterin:\nBeginen Köln e.V.\n\nAnsprechp
 artnerin:\nKarola Kilens\, Tel.: 0221 / 9655820\, E-Mail: info@beginen.de\
 n\nAnmeldung / Kosten:\nKostenbeitrag: 15 € / ermäßigter Beitrag 12 
 €\n(Ermäßigter Beitrag gilt für Vereinsfrauen und Kölnpass-Inhaber*i
 nnen.)\nAnmeldung erforderlich\n\nVeranstaltungsort:\nBeginenfenster\, Mar
 kmannsgasse 7\, 50667 Köln\, [map id=891]
END:VEVENT
BEGIN:VTIMEZONE
TZID:Europe/Berlin
X-LIC-LOCATION:Europe/Berlin
BEGIN:DAYLIGHT
DTSTART:20180325T030000
TZOFFSETFROM:+0100
TZOFFSETTO:+0200
TZNAME:CEST
END:DAYLIGHT
END:VTIMEZONE
END:VCALENDAR