BEGIN:VCALENDAR
VERSION:2.0
PRODID:-//wp-events-plugin.com//7.2.3.1//EN
TZID:Europe/Berlin
X-WR-TIMEZONE:Europe/Berlin
BEGIN:VEVENT
UID:5229@frauenportal.koeln
DTSTART;TZID=Europe/Berlin:20241210T190000
DTEND;TZID=Europe/Berlin:20241210T211500
DTSTAMP:20241115T123347Z
URL:https://frauenportal.koeln/veranstaltungen/frau-leben-freiheit-afghani
 sch-iranisch-deutsch-2/
SUMMARY:Frau Leben Freiheit – afghanisch\, iranisch\, deutsch
DESCRIPTION:Ein Abend zum Tag der Menschenrechte am Ende der ORANGE DAYS 20
 24\n\nmit Texten und Musik\, Gespräch und Begegnung\nzum Recht auf Mensch
 -Sein\nzwischen Frau und Leben und Freiheit\nin verschiedenen Kontexten.\n
 \nVeranstalterinnen:\n\n 	Frauenreferat der Evangelischen Kirche in Köln\
 n 	Melanchthon-Akademie Köln\, www.melanchthon-akademie.de\n 	DIWAN Deuts
 ch-Iranische Begegnungen e.V.\, www.diwan-verein.de\n\nAnsprechpartnerin:\
 nDorothee Schaper\, Tel.: 0221 / 931803-28\, E-Mail: schaper@melanchthon-a
 kademie.de\n\nKosten:\nKostenfrei\, Spenden erbeten.
LOCATION:Kartäuserkirche\, Kartäusergasse 7\, 50678 Köln
GEO:50.9246;6.955289999999991
X-APPLE-STRUCTURED-LOCATION;VALUE=URI;X-ADDRESS=Kartäusergasse 7\, Köln\,
  50678\, Veranstaltungsort\, Deutschland;X-APPLE-RADIUS=100;X-TITLE=Kartä
 userkirche:geo:50.9246,6.955289999999991
END:VEVENT
BEGIN:VTIMEZONE
TZID:Europe/Berlin
X-LIC-LOCATION:Europe/Berlin
BEGIN:STANDARD
DTSTART:20241027T020000
TZOFFSETFROM:+0200
TZOFFSETTO:+0100
TZNAME:CET
END:STANDARD
END:VTIMEZONE
END:VCALENDAR