BEGIN:VCALENDAR
VERSION:2.0
PRODID:-//wp-events-plugin.com//7.2.3.1//EN
TZID:Europe/Berlin
X-WR-TIMEZONE:Europe/Berlin
BEGIN:VEVENT
UID:4449@frauenportal.koeln
DTSTART;TZID=Europe/Berlin:20231210T180000
DTEND;TZID=Europe/Berlin:20231210T201500
DTSTAMP:20241115T123504Z
URL:https://frauenportal.koeln/veranstaltungen/frau-leben-freiheit-afghani
 sch-iranisch-deutsch/
SUMMARY:Frau Leben Freiheit – afghanisch\, iranisch\, deutsch
DESCRIPTION:Am Tag der Menschenrechte und zum Abschluss der ORANGE DAYS sol
 l das Augenmerk ein weiteres Mal auf die Situation von Frauen im Iran\, in
  Afghanistan und in der Diaspora gelenkt werden.\n\nTexte\, Musik und Brie
 fe sollen für die Verbundenheit von Frauen und Männern diesseits und jen
 seits von Gefängnismauern und Menschen mit und ohne Einwanderungshintergr
 ünden sorgen.\n\nVeranstalterinnen:\n\n 	Frauenreferat der Evangelischen 
 Kirche in Köln\n 	Melanchthon-Akademie Köln\, www.melanchthon-akademie.d
 e\n 	DIWAN Deutsch-Iranische Begegnungen e.V.\, www.diwan-verein.de\n\nAns
 prechpartnerin:\nDorothee Schaper\, Tel.: 0221 / 931803-28\, E-Mail: schap
 er@melanchthon-akademie.de\n\nKosten / Anmeldung:\nKostenfrei\, keine Anme
 ldung erforderlich.
LOCATION:Kartäuserkirche\, Kartäusergasse 7\, 50678 Köln
GEO:50.9246;6.955289999999991
X-APPLE-STRUCTURED-LOCATION;VALUE=URI;X-ADDRESS=Kartäusergasse 7\, Köln\,
  50678\, Veranstaltungsort\, Deutschland;X-APPLE-RADIUS=100;X-TITLE=Kartä
 userkirche:geo:50.9246,6.955289999999991
END:VEVENT
BEGIN:VTIMEZONE
TZID:Europe/Berlin
X-LIC-LOCATION:Europe/Berlin
BEGIN:STANDARD
DTSTART:20231029T020000
TZOFFSETFROM:+0200
TZOFFSETTO:+0100
TZNAME:CET
END:STANDARD
END:VTIMEZONE
END:VCALENDAR