BEGIN:VCALENDAR
VERSION:2.0
PRODID:-//wp-events-plugin.com//7.2.3.1//EN
TZID:Europe/Berlin
X-WR-TIMEZONE:Europe/Berlin
BEGIN:VEVENT
UID:4624@frauenportal.koeln
DTSTART;TZID=Europe/Berlin:20240125T093000
DTEND;TZID=Europe/Berlin:20240125T123000
DTSTAMP:20231221T144540Z
URL:https://frauenportal.koeln/veranstaltungen/frauen-arbeit-zukunft-infot
 ag-zum-beruflichen-einstieg-fuer-frauen-im-sgb-ii/
SUMMARY:Frauen-Arbeit-Zukunft: Infotag zum beruflichen Einstieg für Frauen
  im SGB II
DESCRIPTION:Mit zahlreichen Unterstützungsangeboten auf dem Weg in die ber
 ufliche Zukunft:\n\n 	Berufliche Orientierung\n 	Einstiegschancen in Prakt
 ika\, Ausbildung und Arbeit\n 	Sprachförderung\, Anerkennung von ausländ
 ischen Berufsabschlüssen\n 	Kinderbetreuung und familienunterstützenden 
 Hilfen - mit Mitmachaktion für Kinder!\n\n\nVeranstalterin:\nBeauftragte 
 f. Chancengleichheit am Arbeitsmarkt (BCA) des JobCenters Köln\, www.jobc
 enterkoeln.de/gleiche-chancen-im-job/\n\nAnsprechpartnerin:\nMeryem Demirt
 aş\, Tel.: 0221 / 9429 8300\, E-Mail: Jobcenter-Koeln.BCA@jobcenter-ge.de
 \n\nKosten / Anmeldung:\nAnmeldung bei Meryem Demirtaş. Die Veranstaltung
  ist kostenfrei.\n\nEingang:\nEingang B – Clevischer Ring 4\, 51065 Köl
 n
LOCATION:Jobcenter Köln Mülheim\, Wiener Platz 3\, 51065 Köln
GEO:50.962048;7.004975
X-APPLE-STRUCTURED-LOCATION;VALUE=URI;X-ADDRESS=Wiener Platz 3\, Köln\, No
 rdrhein-Westfalen\, 51065\, Veranstaltungsort\, Deutschland;X-APPLE-RADIUS
 =100;X-TITLE=Jobcenter Köln Mülheim:geo:50.962048,7.004975
END:VEVENT
BEGIN:VTIMEZONE
TZID:Europe/Berlin
X-LIC-LOCATION:Europe/Berlin
BEGIN:STANDARD
DTSTART:20231029T020000
TZOFFSETFROM:+0200
TZOFFSETTO:+0100
TZNAME:CET
END:STANDARD
END:VTIMEZONE
END:VCALENDAR