BEGIN:VCALENDAR
VERSION:2.0
PRODID:-//wp-events-plugin.com//7.2.3.1//EN
TZID:Europe/Berlin
X-WR-TIMEZONE:Europe/Berlin
BEGIN:VEVENT
UID:4370@frauenportal.koeln
DTSTART;TZID=Europe/Berlin:20230928T170000
DTEND;TZID=Europe/Berlin:20230928T200000
DTSTAMP:20250528T145526Z
URL:https://frauenportal.koeln/veranstaltungen/frauen-business-tag-der-ihk
 -koeln/
SUMMARY:Frauen-Business-Tag der IHK Köln
DESCRIPTION:"Hürden überwinden!"\n\nUnter diesem Motto steht der diesjäh
 rige Frauen-Business-Tag in der IHK Köln. Mit dabei ist Heike Henkel\, di
 e als Weltmeisterin und Olympiasiegerin nicht nur im Sport viele Hürden 
 übersprungen hat. Sie wird ihr Erfolgsrezept verraten. Außerdem berichte
 n erfolgreiche Frauen aus Wirtschaft und Politik\, welche Hürden es auf i
 hrem Weg nach oben gab – und wie es ihnen gelungen ist\, diese zu überw
 inden.\n\nIm Anschluss an das Programm wird zu Snacks\, Getränken & Netwo
 rking eingeladen. Wieder mit dabei: Unternehmerinnen- und Wirtschaftsverb
 ände\, die sich im Börsensaal und im Foyer vorstellen. \n\nDies ist das 
 Programm:\n\n17.00 Uhr - Grußwort\nDr. Nicole Grünewald\, Präsidentin d
 er IHK Köln\n\n17.10 Uhr - Begrüßung & Moderation\nClaudia Schall\, Che
 fredakteurin Radio Köln\n\n17.15 Uhr - Keynote: „Hürden überwinden! M
 it Motivation und mentaler Stärke hohe Ziele erreichen“\nHeike Henkel\,
  Europameisterin\, Weltmeisterin und Olympiasiegerin im Hochsprung\n\n17.4
 5 Uhr - Podiumsgespräch und Interviews mit:\n\n	Claudia Zimmer\, Vorstän
 din Delphin Technology AG \n	Nina Luig\, Geschäftsführerin Köln-Düssel
 dorfer Deutsche Rheinschiffahrt GmbH \n	Anna Heller\, Geschäftsführerin 
 Hellers Brauhaus\n	Lena Teschlade\, MdL SPD-Fraktion\n	Berîvan Aymaz\, Md
 L\, Vizepräsidentin des Landtags NRW\, Fraktion Bündnis 90/Die Grünen\n
 	Teresa De Bellis-Olinger\, MdR\, Vorsitzende des Ausschusses für die Gle
 ichstellung von Frauen und Männern\, CDU-Fraktion\n    \n\n18.30 Uhr - Ge
 t-Together & 'Markt der Möglichkeiten' mit Snacks & Networking\n \nVerans
 talterin:\nIndustrie- und Handelskammer zu Köln\, www.ihk-koeln.de\n\nKos
 ten / Anmeldung:\nEinlass: 16.30 Uhr\, der Eintritt ist frei. \nFür Kinde
 rbetreuung (>2 Jahre) ist vor Ort gesorgt.\nUm Anmeldung wird gebeten unte
 r https://eventanmeldung.ihk-koeln.de/fbt-2023 
LOCATION:IHK zu Köln\, Unter Sachsenhausen 10-26\, 50667 Köln
GEO:50.9427755;6.9510706
X-APPLE-STRUCTURED-LOCATION;VALUE=URI;X-ADDRESS=Unter Sachsenhausen 10-26\,
  Köln\, 50667\, Veranstaltungsort\, Deutschland;X-APPLE-RADIUS=100;X-TITL
 E=IHK zu Köln:geo:50.9427755,6.9510706
END:VEVENT
BEGIN:VTIMEZONE
TZID:Europe/Berlin
X-LIC-LOCATION:Europe/Berlin
BEGIN:DAYLIGHT
DTSTART:20230326T030000
TZOFFSETFROM:+0100
TZOFFSETTO:+0200
TZNAME:CEST
END:DAYLIGHT
END:VTIMEZONE
END:VCALENDAR