BEGIN:VCALENDAR
VERSION:2.0
PRODID:-//wp-events-plugin.com//7.2.3.1//EN
TZID:Europe/Berlin
X-WR-TIMEZONE:Europe/Berlin
BEGIN:VEVENT
UID:3329@frauenportal.koeln
DTSTART;TZID=Europe/Berlin:20210930T170000
DTEND;TZID=Europe/Berlin:20210930T190000
DTSTAMP:20210831T140755Z
URL:https://frauenportal.koeln/veranstaltungen/frauen-business-tag-der-tal
 k/
SUMMARY:Frauen-Business-Tag – Der Talk
DESCRIPTION:Aus der Einladung:\n\n"Wir laden Sie ganz herzlich ein zum Frau
 en-Business-Tag – DER TALK\, der erstmals gemeinsam von der IHK Köln un
 d der HWK Köln durchgeführt wird! \n\nMit dabei sind unsere NRW-Minister
 in für Heimat\, Kommunales\, Bau und Gleichstellung Ina Scharrenbach\, di
 e Bestseller-Autorin Fränzi Kühne und viele weitere Persönlichkeiten au
 s Politik\, Verwaltung und Wirtschaft!\n\nDer Frauen-Business-Tag jetzt in
  neuem Format – live und als Stream! Lassen Sie sich überraschen!\n\nSe
 ien Sie live vor Ort im Börsen-Saal der IHK Köln dabei – oder erleben 
 Sie den Frauen-Business-Tag im Netz und beteiligen Sie sich digital!\n\nAc
 htung: Die Plätze im Börsen-Saal sind pandemiebedingt leider noch begren
 zt.\n\nUnser Stream auf youtube.com/ihkkoeln ist für alle zugänglich!\n\
 nBitte melden Sie sich an.\n\nWir freuen uns auf Ihre Anmeldung und natür
 lich ganz besonders auf Sie!\n\nHerzliche Grüße\n\nDr. Nicole Grünewald
  und Hans Peter Wollseifer\n\nPräsidentin der IHK Köln - Präsident der 
 HWK Köln"\n\nHier ist die Einladung: Einladung_Frauen-Business-Tag_2021\,
  pdf-Datei\, 2 MB\n\nVeranstalterinnen:\nIndustrie- und Handelskammer zu K
 öln\, www.ihk-koeln.de\nHandwerkskammer zu Köln\, www.hwk-koeln.de \n\nK
 osten / Anmeldung:\nFür die Teilnahme in Präsenz im Börsensaal ist eine
  Anmeldung erforderlich unter www.ihk-koeln.de/fbt\nDer Eintritt ist frei.
  Es gelten die aktuellen Regeln der Coronaschutzverordnung. \nDanach richt
 en sich auch mögliche Teilnahmebegrenzungen und das Cateringangebot vor O
 rt.\n\nVeranstaltungsort:\nBörsen-Saal der IHK Köln\, Unter Sachsenhause
 n 10-26\, 50667 Köln\, [map id=998]\nsowie live online unter www.youtube.
 com/ihkkoeln
END:VEVENT
BEGIN:VTIMEZONE
TZID:Europe/Berlin
X-LIC-LOCATION:Europe/Berlin
BEGIN:DAYLIGHT
DTSTART:20210328T030000
TZOFFSETFROM:+0100
TZOFFSETTO:+0200
TZNAME:CEST
END:DAYLIGHT
END:VTIMEZONE
END:VCALENDAR