BEGIN:VCALENDAR
VERSION:2.0
PRODID:-//wp-events-plugin.com//7.2.3.1//EN
TZID:Europe/Berlin
X-WR-TIMEZONE:Europe/Berlin
BEGIN:VEVENT
UID:2383@frauenportal.koeln
DTSTART;TZID=Europe/Berlin:20201117T100000
DTEND;TZID=Europe/Berlin:20201117T120000
DTSTAMP:20201102T094818Z
URL:https://frauenportal.koeln/veranstaltungen/frauen-gruenden-anders-12/
SUMMARY:Frauen gründen anders
DESCRIPTION:– Die Veranstaltung findet online statt! Anmeldung erforderli
 ch per E-Mail! – \n\nDie Veranstaltungsreihe findet vier Mal im Jahr sta
 tt und wendet sich an alle Frauen\, die eine Gründung planen oder sich in
  der Gründungsphase befinden.\n\nDer Vormittag startet mit aktuellen Info
 rmationen über unterschiedliche Fördermöglichkeiten bei einer Gründung
  und einem kleinen Input\, wie Frauen erfolgreich netzwerken. Anschließen
 d stellen Vertreterinnen verschiedener wirtschaftsnaher Frauenorganisation
 en in Köln ihre Netzwerke vor.\n\nIm Mittelpunkt des zweiten Teils der Ve
 ranstaltung steht der Vortrag einer Expertin über ein Thema\, das in der 
 Gründungsphase für Frauen von Interesse ist\, z.B. Coaching\, Fragen des
  Businessplans und des Marketings\, Selbstmanagement\, Rechtsfragen\, Zuku
 nftstrends. Dieses Mal:\n\nAkquise mit Freude und Leichtigkeit\n\nZum Absc
 hluss interviewt die Moderatorin eine Selbständige\, die der Gründung be
 reits etwas entwachsen ist\, so dass die Anwesenden einen unmittelbaren Pr
 axiseinblick mitnehmen können.\n\nHier ist die Einladung: 2020_11_17_Frau
 en gründen anders (pdf-Datei\, 225 KB)\n\nVeranstalterin:\nBeauftragte f
 ür Chancengleichheit am Arbeitsmarkt der Agentur für Arbeit Köln\nin Ko
 operation mit dem AK Kölner Netzwerke Frau und Wirtschaft.\n\nAnsprechpar
 tnerin:\nAgnes Metz\, Tel.: 0221/ 9429-5400\, E-Mail: Koeln.BCA@arbeitsage
 ntur.de\n\nKosten / Anmeldung:\nEingeladen sind alle interessierten Frauen
 \, Gründerinnen\, Unternehmerinnen und Berufsrückkehrerinnen. Eine Anmel
 dung ist erforderlich unter Koeln.BCA@arbeitsagentur.de. Es fällt kein Ko
 stenbeitrag an.\n\nVeranstaltungsort:\nonline
END:VEVENT
BEGIN:VTIMEZONE
TZID:Europe/Berlin
X-LIC-LOCATION:Europe/Berlin
BEGIN:STANDARD
DTSTART:20201025T020000
TZOFFSETFROM:+0200
TZOFFSETTO:+0100
TZNAME:CET
END:STANDARD
END:VTIMEZONE
END:VCALENDAR