BEGIN:VCALENDAR
VERSION:2.0
PRODID:-//wp-events-plugin.com//7.2.3.1//EN
TZID:Europe/Berlin
X-WR-TIMEZONE:Europe/Berlin
BEGIN:VEVENT
UID:3604@frauenportal.koeln
DTSTART;TZID=Europe/Berlin:20220510T100000
DTEND;TZID=Europe/Berlin:20220510T120000
DTSTAMP:20220408T104101Z
URL:https://frauenportal.koeln/veranstaltungen/frauen-gruenden-anders-19/
SUMMARY:Frauen gründen anders
DESCRIPTION:– Die Veranstaltung findet online statt! Anmeldung erforderli
 ch per E-Mail! – \n\nDie Veranstaltungsreihe findet sechs Mal im Jahr st
 att und wendet sich an alle Frauen\, die eine Gründung planen oder sich i
 n der Gründungsphase befinden.\n\nDer Vormittag startet mit aktuellen Inf
 ormationen über unterschiedliche Fördermöglichkeiten bei einer Gründun
 g und einem kleinen Input\, wie Frauen erfolgreich netzwerken. Anschließe
 nd stellen Vertreterinnen verschiedener wirtschaftsnaher Frauenorganisatio
 nen in Köln ihre Netzwerke vor.\n\nIm Mittelpunkt des zweiten Teils der V
 eranstaltung steht der Vortrag einer Expertin über ein Thema\, das in der
  Gründungsphase für Frauen von Interesse ist\, z.B. Coaching\, Fragen de
 s Businessplans und des Marketings\, Selbstmanagement\, Rechtsfragen\, Zuk
 unftstrends. Dieses Mal:\n\nBuchführung und Steuern\n\nZum Abschluss inte
 rviewt die Moderatorin eine Selbständige\, die der Gründung bereits etwa
 s entwachsen ist\, so dass die Anwesenden einen unmittelbaren Praxiseinbli
 ck mitnehmen können.\n\nHier ist die Einladung: 2022_05_10_Frauen gründe
 n anders (pdf-Datei\, 111 KB)\n\nVeranstalterin:\nBeauftragte für Chancen
 gleichheit am Arbeitsmarkt der Agentur für Arbeit Köln\nin Kooperation m
 it dem AK Kölner Netzwerke Frau und Wirtschaft.\n\nAnsprechpartnerin:\nAg
 nes Metz\, Tel.: 0221/ 9429-5400\, E-Mail: Koeln.BCA@arbeitsagentur.de\n\n
 Kosten / Anmeldung:\nEingeladen sind alle interessierten Frauen\, Gründer
 innen\, Unternehmerinnen und Berufsrückkehrerinnen. Eine Anmeldung ist er
 forderlich unter Koeln.BCA@arbeitsagentur.de. Es fällt kein Kostenbeitrag
  an.\n\nVeranstaltungsort:\nonline
END:VEVENT
BEGIN:VTIMEZONE
TZID:Europe/Berlin
X-LIC-LOCATION:Europe/Berlin
BEGIN:DAYLIGHT
DTSTART:20220327T030000
TZOFFSETFROM:+0100
TZOFFSETTO:+0200
TZNAME:CEST
END:DAYLIGHT
END:VTIMEZONE
END:VCALENDAR