BEGIN:VCALENDAR
VERSION:2.0
PRODID:-//wp-events-plugin.com//7.2.3.1//EN
TZID:Europe/Berlin
X-WR-TIMEZONE:Europe/Berlin
BEGIN:VEVENT
UID:3766@frauenportal.koeln
DTSTART;TZID=Europe/Berlin:20220816T100000
DTEND;TZID=Europe/Berlin:20220816T130000
DTSTAMP:20220729T140626Z
URL:https://frauenportal.koeln/veranstaltungen/frauen-gruenden-anders-22/
SUMMARY:Frauen gründen anders
DESCRIPTION:Die Veranstaltungsreihe findet sechs Mal im Jahr statt und wend
 et sich an alle Frauen\, die eine Gründung planen oder sich in der Gründ
 ungsphase befinden.\n\nDer Vormittag startet mit aktuellen Informationen 
 über unterschiedliche Fördermöglichkeiten bei einer Gründung und einem
  kleinen Input\, wie Frauen erfolgreich netzwerken. Anschließend stellen 
 Vertreterinnen verschiedener wirtschaftsnaher Frauenorganisationen in Köl
 n ihre Netzwerke vor und eine kreative Pause gibt Gelegenheit\, sich auszu
 tauschen und Kontakte zu knüpfen.\n\nIm Mittelpunkt des zweiten Teils der
  Veranstaltung steht der Vortrag einer Expertin über ein Thema\, das in d
 er Gründungsphase für Frauen von Interesse ist\, z.B. Coaching\, Fragen 
 des Businessplans und des Marketings\, Selbstmanagement\, Rechtsfragen\, Z
 ukunftstrends. Dieses Mal:\n\nResilienz für Gründerinnen: Praktische Tip
 ps zur Stressprävention und Förderung der Resilienz\n\nZum Abschluss int
 erviewt die Moderatorin eine Selbständige\, die der Gründung bereits etw
 as entwachsen ist\, so dass die Anwesenden einen unmittelbaren Praxiseinbl
 ick mitnehmen können.\n\nHier ist die Einladung: 2022-08-16_Frauen_gruend
 en_anders (pdf-Datei\, 132 KB)\n\nVeranstalterin:\nBeauftragte für Chance
 ngleichheit am Arbeitsmarkt der Agentur für Arbeit Köln\nin Kooperation 
 mit dem AK Kölner Netzwerke Frau und Wirtschaft.\n\nAnsprechpartnerin:\nA
 gnes Metz\, Tel.: 0221/ 9429-5400\, E-Mail: Koeln.BCA@arbeitsagentur.de\n\
 nKosten / Anmeldung:\nEingeladen sind alle interessierten Frauen\, Gründe
 rinnen\, Unternehmerinnen und Berufsrückkehrerinnen. Eine Anmeldung ist e
 rforderlich unter Koeln.BCA@arbeitsagentur.de. Es fällt kein Kostenbeitra
 g an.\n\nVeranstaltungsort:\nBerufsinformationszentrum (BIZ) der Agentur f
 ür Arbeit Köln\, Butzweilerhofallee 1\, 50829 Köln\, [map id=930]
END:VEVENT
BEGIN:VTIMEZONE
TZID:Europe/Berlin
X-LIC-LOCATION:Europe/Berlin
BEGIN:DAYLIGHT
DTSTART:20220327T030000
TZOFFSETFROM:+0100
TZOFFSETTO:+0200
TZNAME:CEST
END:DAYLIGHT
END:VTIMEZONE
END:VCALENDAR