BEGIN:VCALENDAR
VERSION:2.0
PRODID:-//wp-events-plugin.com//7.2.3.1//EN
TZID:Europe/Berlin
X-WR-TIMEZONE:Europe/Berlin
BEGIN:VEVENT
UID:3767@frauenportal.koeln
DTSTART;TZID=Europe/Berlin:20221018T100000
DTEND;TZID=Europe/Berlin:20221018T130000
DTSTAMP:20221011T095056Z
URL:https://frauenportal.koeln/veranstaltungen/frauen-gruenden-anders-23/
SUMMARY:Frauen gründen anders
DESCRIPTION:Die Veranstaltungsreihe findet sechs Mal im Jahr statt und wend
 et sich an alle Frauen\, die eine Gründung planen oder sich in der Gründ
 ungsphase befinden.\n\nDer Vormittag startet mit aktuellen Informationen 
 über unterschiedliche Fördermöglichkeiten bei einer Gründung und einem
  kleinen Input\, wie Frauen erfolgreich netzwerken. Anschließend stellen 
 Vertreterinnen verschiedener wirtschaftsnaher Frauenorganisationen in Köl
 n ihre Netzwerke vor und eine kreative Pause gibt Gelegenheit\, sich auszu
 tauschen und Kontakte zu knüpfen.\n\nIm Mittelpunkt des zweiten Teils der
  Veranstaltung steht der Vortrag einer Expertin über ein Thema\, das in d
 er Gründungsphase für Frauen von Interesse ist\, z.B. Coaching\, Fragen 
 des Businessplans und des Marketings\, Selbstmanagement\, Rechtsfragen\, Z
 ukunftstrends. Dieses Mal:\n\nAls Gründerin sichtbar werden!\n\nZum Absch
 luss interviewt die Moderatorin eine Selbständige\, die der Gründung ber
 eits etwas entwachsen ist\, so dass die Anwesenden einen unmittelbaren Pra
 xiseinblick mitnehmen können.\n\nHier ist die Einladung: 221018_Frauen_gr
 uenden_anders_Tagesprogramm (pdf-Datei\, 130 KB)\n\nVeranstalterin:\nBeauf
 tragte für Chancengleichheit am Arbeitsmarkt der Agentur für Arbeit Köl
 n\nin Kooperation mit dem AK Kölner Netzwerke Frau und Wirtschaft.\n\nAns
 prechpartnerin:\nAgnes Metz\, Tel.: 0221/ 9429-5400\, E-Mail: Koeln.BCA@ar
 beitsagentur.de\n\nKosten / Anmeldung:\nEingeladen sind alle interessierte
 n Frauen\, Gründerinnen\, Unternehmerinnen und Berufsrückkehrerinnen. Ei
 ne Anmeldung ist erforderlich unter Koeln.BCA@arbeitsagentur.de. Es fällt
  kein Kostenbeitrag an.\n\nVeranstaltungsort:\nBerufsinformationszentrum (
 BIZ) der Agentur für Arbeit Köln\, Butzweilerhofallee 1\, 50829 Köln\, 
 [map id=930]
END:VEVENT
BEGIN:VTIMEZONE
TZID:Europe/Berlin
X-LIC-LOCATION:Europe/Berlin
BEGIN:DAYLIGHT
DTSTART:20220327T030000
TZOFFSETFROM:+0100
TZOFFSETTO:+0200
TZNAME:CEST
END:DAYLIGHT
END:VTIMEZONE
END:VCALENDAR