BEGIN:VCALENDAR
VERSION:2.0
PRODID:-//wp-events-plugin.com//7.2.3.1//EN
TZID:Europe/Berlin
X-WR-TIMEZONE:Europe/Berlin
BEGIN:VEVENT
UID:4145@frauenportal.koeln
DTSTART;TZID=Europe/Berlin:20230620T100000
DTEND;TZID=Europe/Berlin:20230620T130000
DTSTAMP:20230526T131713Z
URL:https://frauenportal.koeln/veranstaltungen/frauen-gruenden-anders-28/
SUMMARY:Frauen gründen anders
DESCRIPTION:Die Veranstaltungsreihe findet sechs Mal im Jahr statt und wend
 et sich an alle Frauen\, die eine Gründung planen oder sich in der Gründ
 ungsphase befinden.\n\nDer Vormittag startet mit aktuellen Informationen 
 über unterschiedliche Fördermöglichkeiten bei einer Gründung und einem
  kleinen Input\, wie Frauen erfolgreich netzwerken. Anschließend stellen 
 Vertreterinnen verschiedener wirtschaftsnaher Frauenorganisationen in Köl
 n ihre Netzwerke vor und eine kreative Pause gibt Gelegenheit\, sich auszu
 tauschen und Kontakte zu knüpfen.\n\nIm Mittelpunkt des zweiten Teils der
  Veranstaltung steht der Vortrag einer Expertin über ein Thema\, das in d
 er Gründungsphase für Frauen von Interesse ist\, z.B. Coaching\, Fragen 
 des Businessplans und des Marketings\, Selbstmanagement\, Rechtsfragen\, Z
 ukunftstrends. Dieses Mal:\n\n"Neue Kunden braucht man immer\, oder?" – 
 Vertrieb in den verschiedenen Unternehmensphasen\n\nZum Abschluss intervie
 wt die Moderatorin eine Selbständige\, die der Gründung bereits etwas en
 twachsen ist\, so dass die Anwesenden einen unmittelbaren Praxiseinblick m
 itnehmen können.\n\nHier ist die Einladung: 230620_Frauen gründen anders
  (pdf-Datei\, 133 KB)\n\nVeranstalterin:\nBeauftragte für Chancengleichhe
 it am Arbeitsmarkt der Agentur für Arbeit Köln\nin Kooperation mit dem A
 K Kölner Netzwerke Frau und Wirtschaft.\n\nAnsprechpartnerin:\nAgnes Metz
 \, Tel.: 0221/ 9429-5400\, E-Mail: Koeln.BCA@arbeitsagentur.de\n\nKosten /
  Anmeldung:\nEingeladen sind alle interessierten Frauen\, Gründerinnen\, 
 Unternehmerinnen und Berufsrückkehrerinnen. Eine Anmeldung ist erforderli
 ch unter Koeln.BCA@arbeitsagentur.de. Es fällt kein Kostenbeitrag an.
LOCATION:Berufsinformationszentrum (BIZ) - Agentur für Arbeit Köln\, Butz
 weilerhofallee 1\, 50829 Köln
GEO:50.984654;6.888779
X-APPLE-STRUCTURED-LOCATION;VALUE=URI;X-ADDRESS=Butzweilerhofallee 1\, Köl
 n\, 50829\, Veranstaltungsort\, Deutschland;X-APPLE-RADIUS=100;X-TITLE=Ber
 ufsinformationszentrum (BIZ) - Agentur für Arbeit Köln:geo:50.984654,6.8
 88779
END:VEVENT
BEGIN:VTIMEZONE
TZID:Europe/Berlin
X-LIC-LOCATION:Europe/Berlin
BEGIN:DAYLIGHT
DTSTART:20230326T030000
TZOFFSETFROM:+0100
TZOFFSETTO:+0200
TZNAME:CEST
END:DAYLIGHT
END:VTIMEZONE
END:VCALENDAR