BEGIN:VCALENDAR
VERSION:2.0
PRODID:-//wp-events-plugin.com//7.2.3.1//EN
TZID:Europe/Berlin
X-WR-TIMEZONE:Europe/Berlin
BEGIN:VEVENT
UID:872@frauenportal.koeln
DTSTART;TZID=Europe/Berlin:20180515T100000
DTEND;TZID=Europe/Berlin:20180515T130000
DTSTAMP:20180423T092218Z
URL:https://frauenportal.koeln/veranstaltungen/frauen-gruenden-anders-3/
SUMMARY:Frauen gründen anders
DESCRIPTION:Die Veranstaltungsreihe findet vier Mal im Jahr statt und wende
 t sich an alle Frauen\, die eine Gründung planen oder sich in der Gründu
 ngsphase befinden.\n\nDer Vormittag startet mit aktuellen Informationen ü
 ber unterschiedliche Fördermöglichkeiten bei einer Gründung und einem k
 leinen Input\, wie Frauen erfolgreich netzwerken. Anschließend stellen Ve
 rtreterinnen verschiedener wirtschaftsnaher Frauenorganisationen in Köln 
 ihre Netzwerke vor und eine kreative Pause gibt Gelegenheit\, sich auszuta
 uschen und Kontakte zu knüpfen.\n\nIm Mittelpunkt des zweiten Teils der V
 eranstaltung steht der Vortrag einer Expertin über ein Thema\, das in der
  Gründungsphase für Frauen von Interesse ist\, z.B. Coaching\, Fragen de
 s Businessplans und des Marketings\, Selbstmanagement\, Rechtsfragen\, Zuk
 unftstrends. Dieses Mal:\n\nPreise kalkulieren und Business erfolgreich ge
 stalten \n\nZum Abschluss interviewt die Moderatorin eine Selbständige\, 
 die der Gründung bereits etwas entwachsen ist\, so dass die Anwesenden ei
 nen unmittelbaren Praxiseinblick mitnehmen können.\n\nHier ist das Progra
 mm: 2018_05_15_Frauen gründen anders\, pdf-Datei\, 176 KB\n\nVeranstalter
 in:\nBeauftragte für Chancengleichheit am Arbeitsmarkt der Agentur für A
 rbeit Köln\nin Kooperation mit dem AK Kölner Netzwerke Frau und Wirtscha
 ft.\n\nAnsprechpartnerin:\nAgnes Metz\, Tel.: 0221/ 9429-5400\, E-Mail: Ko
 eln.BCA@arbeitsagentur.de\n\nKosten / Anmeldung:\nEingeladen sind alle int
 eressierten Frauen\, Gründerinnen\, Unternehmerinnen und Berufsrückkehre
 rinnen. Eine Anmeldung ist nicht erforderlich\, es fällt kein Kostenbeitr
 ag an.\n\nVeranstaltungsort:\nBerufsinformationszentrum (BIZ) der Agentur 
 für Arbeit Köln\, Butzweilerhofallee 1\, 50829 Köln\, [map id=930]
END:VEVENT
BEGIN:VTIMEZONE
TZID:Europe/Berlin
X-LIC-LOCATION:Europe/Berlin
BEGIN:DAYLIGHT
DTSTART:20180325T030000
TZOFFSETFROM:+0100
TZOFFSETTO:+0200
TZNAME:CEST
END:DAYLIGHT
END:VTIMEZONE
END:VCALENDAR