BEGIN:VCALENDAR
VERSION:2.0
PRODID:-//wp-events-plugin.com//7.2.3.1//EN
TZID:Europe/Berlin
X-WR-TIMEZONE:Europe/Berlin
BEGIN:VEVENT
UID:4616@frauenportal.koeln
DTSTART;TZID=Europe/Berlin:20240903T100000
DTEND;TZID=Europe/Berlin:20240903T130000
DTSTAMP:20240805T104250Z
URL:https://frauenportal.koeln/veranstaltungen/frauen-gruenden-anders-35/
SUMMARY:Frauen gründen anders
DESCRIPTION:Die Veranstaltungsreihe findet sechs Mal im Jahr statt und wend
 et sich an alle Frauen*\, die eine Gründung planen oder sich in der Grün
 dungsphase befinden.\n\nDer Vormittag startet mit aktuellen Informationen 
 über unterschiedliche Fördermöglichkeiten bei einer Gründung und einem
  kleinen Input\, wie Frauen* erfolgreich netzwerken. Anschließend werden 
 verschiedene wirtschaftsnahe Frauenorganisationen in Köln vorgestellt.\n\
 nIm Mittelpunkt des zweiten Teils der Veranstaltung steht der Vortrag eine
 r Expertin über ein Thema\, das in der Gründungsphase für Frauen von In
 teresse ist\, z.B. Coaching\, Fragen des Businessplans und des Marketings\
 , Selbstmanagement\, Rechtsfragen\, Zukunftstrends. Dieses Mal:\n\nUnterne
 hmerin und Mutter – Wie gelingt die Vereinbarkeit?\n\nDanach interviewt 
 die Moderatorin eine Selbständige\, die der Gründung bereits etwas entwa
 chsen ist\, so dass die Anwesenden einen unmittelbaren Praxiseinblick mitn
 ehmen können. Die Veranstaltung klingt dann mit der Möglichkeit aus\, si
 ch auszutauschen und Kontakte zu knüpfen.\n\nHier ist die Einladung: 2409
 03_Programm_Frauen gründen anders (pdf-Datei\, 120 KB)\n\nVeranstalterin:
 \nBeauftragte für Chancengleichheit am Arbeitsmarkt der Agentur für Arbe
 it Köln\nin Kooperation mit dem AK Kölner Netzwerke Frau und Wirtschaft.
 \n\nAnsprechpartnerin:\nAgnes Metz\, Tel.: 0221/ 9429-5400\, E-Mail: Koeln
 .BCA@arbeitsagentur.de\n\nKosten / Anmeldung:\nEingeladen sind alle intere
 ssierten Frauen*\, Gründerinnen*\, Unternehmerinnen* und Berufsrückkehre
 rinnen*. Es fällt kein Kostenbeitrag an.
LOCATION:Berufsinformationszentrum (BIZ) - Agentur für Arbeit Köln\, Butz
 weilerhofallee 1\, 50829 Köln
GEO:50.984654;6.888779
X-APPLE-STRUCTURED-LOCATION;VALUE=URI;X-ADDRESS=Butzweilerhofallee 1\, Köl
 n\, 50829\, Veranstaltungsort\, Deutschland;X-APPLE-RADIUS=100;X-TITLE=Ber
 ufsinformationszentrum (BIZ) - Agentur für Arbeit Köln:geo:50.984654,6.8
 88779
END:VEVENT
BEGIN:VTIMEZONE
TZID:Europe/Berlin
X-LIC-LOCATION:Europe/Berlin
BEGIN:DAYLIGHT
DTSTART:20240331T030000
TZOFFSETFROM:+0100
TZOFFSETTO:+0200
TZNAME:CEST
END:DAYLIGHT
END:VTIMEZONE
END:VCALENDAR