BEGIN:VCALENDAR
VERSION:2.0
PRODID:-//wp-events-plugin.com//7.2.3.1//EN
TZID:Europe/Berlin
X-WR-TIMEZONE:Europe/Berlin
BEGIN:VEVENT
UID:5368@frauenportal.koeln
DTSTART;TZID=Europe/Berlin:20250325T100000
DTEND;TZID=Europe/Berlin:20250325T130000
DTSTAMP:20250313T091825Z
URL:https://frauenportal.koeln/veranstaltungen/frauen-gruenden-anders-40/
SUMMARY:Frauen gründen anders
DESCRIPTION:Die Veranstaltungsreihe findet sechs Mal im Jahr statt und wend
 et sich an alle Frauen*\, die eine Gründung planen oder sich in der Grün
 dungsphase befinden.\n\nDer Vormittag startet mit aktuellen Informationen 
 über unterschiedliche Fördermöglichkeiten bei einer Gründung und einem
  kleinen Input\, wie Frauen* erfolgreich netzwerken. Anschließend werden 
 verschiedene wirtschaftsnahe Frauenorganisationen in Köln vorgestellt.\n\
 nIm Mittelpunkt des zweiten Teils der Veranstaltung steht der Vortrag eine
 r Expertin über ein Thema\, das in der Gründungsphase für Frauen von In
 teresse ist\, z.B. Coaching\, Fragen des Businessplans und des Marketings\
 , Selbstmanagement\, Rechtsfragen\, Zukunftstrends. Dieses Mal:\n\nMit Kla
 rheit ins Gespräch\n\nDanach interviewt die Moderatorin eine Selbständig
 e\, die der Gründung bereits etwas entwachsen ist\, so dass die Anwesende
 n einen unmittelbaren Praxiseinblick mitnehmen können. Die Veranstaltung 
 klingt dann mit der Möglichkeit aus\, sich auszutauschen und Kontakte zu 
 knüpfen.\n\nHier ist die Einladung: 250325_Frauen gründen anders (pdf-Da
 tei\, 118 KB)\n\nVeranstalterin:\nBeauftragte für Chancengleichheit am Ar
 beitsmarkt der Agentur für Arbeit Köln\nin Kooperation mit dem AK Kölne
 r Netzwerke Frau und Wirtschaft.\n\nAnsprechpartnerin:\nAgnes Metz\, Tel.:
  0221/ 9429-5400\, E-Mail: Koeln.BCA@arbeitsagentur.de\n\nKosten / Anmeldu
 ng:\nEingeladen sind alle interessierten Frauen*\, Gründerinnen*\, Untern
 ehmerinnen* und Berufsrückkehrerinnen*. Es fällt kein Kostenbeitrag an.
LOCATION:Berufsinformationszentrum (BIZ) - Agentur für Arbeit Köln\, Butz
 weilerhofallee 1\, 50829 Köln
GEO:50.984654;6.888779
X-APPLE-STRUCTURED-LOCATION;VALUE=URI;X-ADDRESS=Butzweilerhofallee 1\, Köl
 n\, 50829\, Veranstaltungsort\, Deutschland;X-APPLE-RADIUS=100;X-TITLE=Ber
 ufsinformationszentrum (BIZ) - Agentur für Arbeit Köln:geo:50.984654,6.8
 88779
END:VEVENT
BEGIN:VTIMEZONE
TZID:Europe/Berlin
X-LIC-LOCATION:Europe/Berlin
BEGIN:STANDARD
DTSTART:20241027T020000
TZOFFSETFROM:+0200
TZOFFSETTO:+0100
TZNAME:CET
END:STANDARD
END:VTIMEZONE
END:VCALENDAR