BEGIN:VCALENDAR
VERSION:2.0
PRODID:-//wp-events-plugin.com//7.2.3.1//EN
TZID:Europe/Berlin
X-WR-TIMEZONE:Europe/Berlin
BEGIN:VEVENT
UID:6172@frauenportal.koeln
DTSTART;TZID=Europe/Berlin:20260415T150000
DTEND;TZID=Europe/Berlin:20260415T170000
DTSTAMP:20260327T091351Z
URL:https://frauenportal.koeln/veranstaltungen/frauen-im-dialog-omas-gegen
 -rechts-koelnsued-stellen-sich-vor/
SUMMARY:Frauen im Dialog: OMAS GEGEN RECHTS KölnSüd stellen sich vor
DESCRIPTION:Reden. Zuhören. Gemeinsam Haltung zeigen.\n\nOMAS GEGEN RECHTS
 \, wer ist das und was machen die eigentlich? \n\nDieser Nachmittag bietet
  die Gelegenheit zum Kennenlernen der Gruppe und ihrer Aktivitäten. \n\nD
 ie Regionalgruppe KölnSüd der 'Omas gegen Rechts' gibt es seit nunmehr z
 wei Jahren. OMA zu sein\, ist weder an ein Alter noch an weiblich oder mä
 nnlich gebunden. OMA sein bedeutet eine Haltung. Unter GEGEN RECHTS verste
 ht die Gruppe Aktionen gegen alle möglichen Aussagen und Maßnahmen\, die
  die demokratischen Rechte\, die uns unsere Verfassung garantiert\, abschw
 ächen oder abschaffen wollen.\nEs handelt sich um eine muntere Gruppe von
  Frauen und einem Mann\, die an Informationsstände und bei Demonstratione
 n im Stadtgebiet ihre Ansichten vertritt und die Begegnung mit Kölnerinne
 n und Kölnern in Gesprächen sucht. Dabei wird oft deutlich\, wo es Nöte
  im Leben gibt\, wie sich Medieninhalte häufig verwirrend auswirken und d
 iffuse Ängste schüren. Dabei ist ihnen der Ton wichtig. Verbale Ausfäll
 e und respektlose Ausdrucksweisen werden nicht geduldet. Die Gruppe arbeit
 et ehrenamtlich\, überparteilich\, religionsübergreifend und -unabhängi
 g sowie ohne jede staatliche Unterstützung.\n\nIn Deutschland gibt es mit
 tlerweile mehreren zehntausend OMAS\, die 2024 mit dem Aachener Friedenspr
 eis für ihren Einsatz von unten gegen Rassismus und Krieg ausgezeichnet w
 urden. \n\nWer nun einfach neugierig geworden ist oder sogar über ein mö
 gliches Engagement bei den OMAS nachdenkt\, ist herzlich eingeladen zu ein
 em Nachmittagsgespräch bei Kaffee\, Tee und Kuchen.\n\nVeranstalterin:\nO
 MAS GEGEN RECHTS KölnSüd\, Regionalgruppe OMAS GEGEN RECHTS Deutschland 
 e.V.\, www.omas-gegen-rechts.org\n\nAnsprechpartnerin:\nGabriele Teuber\, 
 E-Mail: omasgegenrechts-koelnsued@web.de\n\nKosten / Anmeldung:\nEs fallen
  keine Kosten an. Eine Anmeldung ist nicht nötig.
LOCATION:Villa AWO\, Walther-Rathenau-Str. 9\, 50996 Köln
GEO:50.891776;6.997966
X-APPLE-STRUCTURED-LOCATION;VALUE=URI;X-ADDRESS=Walther-Rathenau-Str. 9\, K
 öln\, Nordrhein-Westfalen\, 50996\, Veranstaltungsort\, Deutschland;X-APP
 LE-RADIUS=100;X-TITLE=Villa AWO:geo:50.891776,6.997966
END:VEVENT
BEGIN:VTIMEZONE
TZID:Europe/Berlin
X-LIC-LOCATION:Europe/Berlin
BEGIN:DAYLIGHT
DTSTART:20260329T030000
TZOFFSETFROM:+0100
TZOFFSETTO:+0200
TZNAME:CEST
END:DAYLIGHT
END:VTIMEZONE
END:VCALENDAR