BEGIN:VCALENDAR
VERSION:2.0
PRODID:-//wp-events-plugin.com//7.2.3.1//EN
TZID:Europe/Berlin
X-WR-TIMEZONE:Europe/Berlin
BEGIN:VEVENT
UID:3928@frauenportal.koeln
DTSTART;TZID=Europe/Berlin:20221120T143000
DTEND;TZID=Europe/Berlin:20221120T163000
DTSTAMP:20221031T102103Z
URL:https://frauenportal.koeln/veranstaltungen/frauen-im-nationalsozialism
 us-5/
SUMMARY:Frauen im National­sozialismus
DESCRIPTION:Führung durch die Gedenkstätte und Dauerausstellung im EL-DE-
 Haus.\n\nDas EL-DE-Haus war 10 Jahre Sitz der Kölner Gestapo. Die 1800 In
 schriften im Kellergefängnis werfen ein eindrucksvolles Licht auf die Sch
 icksale der Gefangenen. Der Rundgang durch die Ausstellung zeigt Frauen al
 s Verfolgte und Ausgegrenzte\, Mitläuferinnen und Täterinnen\, aber auch
  mutige Frauen aus dem Widerstand. Die Gleichschaltung der organisierten F
 rauenbewegung\, die rassistische Verfolgung und Vernichtung von Frauen sow
 ie die Ausbeutung ausländischer Zwangsarbeiterinnen sind Aspekte\, die au
 sführlicher dargestellt werden.\n\nVeranstalterin:\nKölner Frauengeschic
 htsverein e.V.\n\nKontakt:\nTel.: 0221 / 24 82 65\, E-Mail: info@frauenges
 chichtsverein.de\n\nKosten / Anmeldung:\nKostenbeitrag: 12 Euro zuzügl. E
 intritt\n\nVeranstaltungsort:\nTreffpunkt: Eingang EL-DE-Haus\, Appellhofp
 latz 23\, 50667 Köln\, [map id=913]
END:VEVENT
BEGIN:VTIMEZONE
TZID:Europe/Berlin
X-LIC-LOCATION:Europe/Berlin
BEGIN:STANDARD
DTSTART:20221030T020000
TZOFFSETFROM:+0200
TZOFFSETTO:+0100
TZNAME:CET
END:STANDARD
END:VTIMEZONE
END:VCALENDAR