BEGIN:VCALENDAR
VERSION:2.0
PRODID:-//wp-events-plugin.com//7.2.3.1//EN
TZID:Europe/Berlin
X-WR-TIMEZONE:Europe/Berlin
BEGIN:VEVENT
UID:5016@frauenportal.koeln
DTSTART;TZID=Europe/Berlin:20240417T140000
DTEND;TZID=Europe/Berlin:20240417T153000
DTSTAMP:20240331T073218Z
URL:https://frauenportal.koeln/veranstaltungen/frauen-im-nationalsozialism
 us-6/
SUMMARY:Frauen im National­sozialismus
DESCRIPTION:Führung durch die Gedenkstätte und Dauerausstellung im EL-DE-
 Haus.\n\nDas EL-DE-Haus war Sitz der Kölner Gestapo. Die 1800 Inschriften
  im Kellergefängnis belegen eindrucksvoll das Leid der Gefangenen. Die F
 ührung zeigt Mädchen und Frauen als Verfolgte und Ausgegrenzte\, Mitläu
 ferinnen und Täterinnen\, aber auch Frauen aus dem Widerstand. Themen sin
 d die „Gleichschaltung“ der Frauenbewegung\, die rassistischen Verfolg
 ungen und Vernichtung von jüdischen und kranken Frauen sowie die Ausbeutu
 ng von Zwangsarbeiterinnen.\n\nReferentin:\nDr. Heike Rentrop\, Kölner Fr
 auengeschichtsverein.\n\nVeranstalterin:\nInternationaler Lyceum Club Köl
 n e.V. in Kooperation mit Beginen Köln e.V.\n\nAnsprechpartnerin:\nHeidi 
 Esser\, E-Mail: info@lyceumclub-koeln.de\n\nKosten / Anmeldung:\nEintritt 
 4\,50 € pro Person\, ermäßigt 2\,00 €\nAnmeldung bei Frau Kusserow\,
  E-Mail: r.kusserow@t-online.de\, Tel. 0221 / 7123814
LOCATION:NS-Dokumentationszentrum der Stadt Köln – EL-DE-Haus\, Appellho
 fplatz 23 \, 50667 Köln
GEO:50.94067;6.95015
X-APPLE-STRUCTURED-LOCATION;VALUE=URI;X-ADDRESS=Appellhofplatz 23 \, Köln\
 , 50667\, Veranstaltungsort\, Deutschland;X-APPLE-RADIUS=100;X-TITLE=NS-Do
 kumentationszentrum der Stadt Köln – EL-DE-Haus:geo:50.94067,6.95015
END:VEVENT
BEGIN:VTIMEZONE
TZID:Europe/Berlin
X-LIC-LOCATION:Europe/Berlin
BEGIN:DAYLIGHT
DTSTART:20240331T030000
TZOFFSETFROM:+0100
TZOFFSETTO:+0200
TZNAME:CEST
END:DAYLIGHT
END:VTIMEZONE
END:VCALENDAR