BEGIN:VCALENDAR
VERSION:2.0
PRODID:-//wp-events-plugin.com//7.2.3.1//EN
TZID:Europe/Berlin
X-WR-TIMEZONE:Europe/Berlin
BEGIN:VEVENT
UID:503@frauenportal.koeln
DTSTART;TZID=Europe/Berlin:20170915T180000
DTEND;TZID=Europe/Berlin:20170915T210000
DTSTAMP:20170901T070243Z
URL:https://frauenportal.koeln/veranstaltungen/frauen-in-bunt-feministisch
 e-perspektiven-fuer-die-oekonomie/
SUMMARY:frauen* in bunt: Feministische Perspektiven für die Ökonomie
DESCRIPTION:frauen* in bunt: Zeigt der Politik die "bunte Karte"!\n\nfrauen
 * in bunt fordert die Parteien auf\, Farbe zu bekennen. Die Fraueninitiati
 ve aus dem Raum Bonn/Köln/Eifel will eine Politik mit feministischer Pers
 pekive für Frauen- und Menschenrechte\, Demokratie und ein gerechtes Welt
 wirtschaftssystem\, gegen Rechtspopulismus\, Gewalt\, Sexismus und Rassism
 us. frauen* in bunt mischt mit beim bundesweiten Feministischen Aktionstag
 \, den das Feministische Netzwerk ausgerufen hat (www.feministischesnetzwe
 rk.org\, www.facebook.com/femnetz/):\n\nAuftakt am Vorabend\, Freitag\, 15
 . September\nVortrag Antje Schrupp\, Politologin und Journalistin/Bloggeri
 n\, zum Thema "Feministische Perspektiven für die Ökonomie"\, im Haus de
 r FrauenGeschichte\, Bonn\n\nAktionen in der Bonner Innenstadt\nSamstag\, 
 16. September 2017\, 11.00 bis 15.00 Uhr\, Poststr./Ecke In der Sürst\n\n
 Frauen*\, die der Politik die "bunte Karte" zeigen wollen\, sind herzlich 
 eingeladen\, dabei zu sein und mitzumachen.\n\nMehr dazu: Einladungsflyer 
 Feministischer Aktionstag 15./16. Sept. 2017 (pdf-Datei\, 376 KB)\n\nVeran
 stalterin:\nfrauen* in bunt\, www.fraueninbunt.de\n\nAnsprechpartnerin:\nH
 eike Jachtmann\, info@fraueninbunt.de\n\nVeranstaltungsort:\nHaus der Frau
 enGeschichte\, Wolfstr. 41\, 53111 Bonn\, [map id=11825]\n\n\n \n
END:VEVENT
BEGIN:VTIMEZONE
TZID:Europe/Berlin
X-LIC-LOCATION:Europe/Berlin
BEGIN:DAYLIGHT
DTSTART:20170326T030000
TZOFFSETFROM:+0100
TZOFFSETTO:+0200
TZNAME:CEST
END:DAYLIGHT
END:VTIMEZONE
END:VCALENDAR