BEGIN:VCALENDAR
VERSION:2.0
PRODID:-//wp-events-plugin.com//7.2.3.1//EN
TZID:Europe/Berlin
X-WR-TIMEZONE:Europe/Berlin
BEGIN:VEVENT
UID:5746@frauenportal.koeln
DTSTART;TZID=Europe/Berlin:20250901T180000
DTEND;TZID=Europe/Berlin:20250901T190000
DTSTAMP:20250829T084646Z
URL:https://frauenportal.koeln/veranstaltungen/frauen-in-die-politik-abend
 gespraech-vor-den-kommunalwahlen-in-nrw/
SUMMARY:Frauen in die Politik! - Abendgespräch vor den Kommunalwahlen in N
 RW
DESCRIPTION:Impulsvortrag und Gespräch mit Dr. Miriam Mauritz\, Projektkoo
 rdinatorin von „Be the Change. Frauen für Demokratie“.\n\nEine starke
  Demokratie braucht vor allem eins: Perspektivenvielfalt. Diese Vielfalt i
 st jedoch keine Selbstverständlichkeit. Der Frauenanteil in der Politik l
 iegt auf vielen politischen Ebenen bei ca. 30 Prozent und sinkt sogar\, wi
 e aktuelle Wahlergebnisse zeigen. Diese Zahl fordert uns alle dazu auf\, e
 twas zu verändern! \n\nDas Projekt „Be the Change. Frauen für Demokrat
 ie“ will Frauen dazu ermutigen\, ihre Stimme in die Politik einzubringen
  und den Anteil von Frauen in der Politik nachhaltig erhöhen. Mehr dazu: 
 www.bethechange-nrw.de\n\nVeranstalterin:\nKatholische Frauengemeinschaft 
 Deutschlands (kfd) im Erzbistum Köln (Kooperationsveranstaltung der kfd-
 Diözesanverbände in NRW) \n\nAnsprechpartnerin:\nAndrea Monschau\, Tel.:
  0221 / 1642-1545\, E-Mail: info@kfd-koeln.de \n\nKosten / Anmeldung:\nKos
 tenfrei.\nUm Anmeldung wird gebeten unter: www.kfd-koeln.de/termine/verans
 taltung/Frauen-in-die-Politik-Abendgespraech-vor-den-Kommunalwahlen-in-NRW
 -2025.09.01/
END:VEVENT
BEGIN:VTIMEZONE
TZID:Europe/Berlin
X-LIC-LOCATION:Europe/Berlin
BEGIN:DAYLIGHT
DTSTART:20250330T030000
TZOFFSETFROM:+0100
TZOFFSETTO:+0200
TZNAME:CEST
END:DAYLIGHT
END:VTIMEZONE
END:VCALENDAR