BEGIN:VCALENDAR
VERSION:2.0
PRODID:-//wp-events-plugin.com//7.2.3.1//EN
TZID:Europe/Berlin
X-WR-TIMEZONE:Europe/Berlin
BEGIN:VEVENT
UID:3650@frauenportal.koeln
DTSTART;TZID=Europe/Berlin:20220222T190000
DTEND;TZID=Europe/Berlin:20220222T203000
DTSTAMP:20220303T082017Z
URL:https://frauenportal.koeln/veranstaltungen/frauen-ins-amt-maenner-der-
 kirche-solidarisieren-sich/
SUMMARY:Frauen ins Amt! Männer der kath. Kirche solidarisieren sich
DESCRIPTION:– Online Lesung und Gespräch mit Sr. Philippa Rath und Pfr. 
 Burkhard Hose –\n\nNach ihrem Bestseller „Weil Gott es so will. Frauen
  erzählen von ihrer Berufung zu Diakonin und Priesterin“ erscheint nun 
 ein neues Buch von Sr. Philippa Rath in Zusammenarbeit mit dem Hochschulpf
 arrer Burkhard Hose. \nDie beiden Herausgeber*innen des Buches „Frauen i
 ns Amt! Männer der Kirche solidarisieren sich“ haben 100 persönliche E
 rfahrungszeugnisse von Bischöfen\, Priestern\, Diakonen\, Ordensleuten un
 d Laien gesammelt. Die Zeugnisse stellen sich u.a. folgenden Fragen: Was w
 äre für die Kirche und für Sie persönlich anders\, erfüllender\, wegw
 eisender\, wenn eine Frau das Evangelium verkünden\, predigen\, Eucharist
 ie feiern\, Sakramente spenden und Gemeinden leiten würde? Und: Was wüns
 chen Sie sich als Perspektiven für die Frauen in der Kirche?\n\nSr. Phili
 ppa und Pfarrer Hose werden uns in die Entstehungsgeschichte des Buches ei
 nführen\, persönliche Statements werden ins Wort gebracht und regen so z
 u einem gemeinsamen Austausch an.\n\nModeration: Melanie Wielens\n\nVerans
 talterin:\nKatholische Frauengemeinschaft Deutschlands (kfd) Diözesanverb
 and Köln e.V.\nin Kooperation mit dem Katholischen Bildungswerk Bonn\, bi
 ldung.erzbistum-koeln.de/bw-bonn/\n\nAnsprechpartnerin:\nAndrea Monschau\,
  Tel.: 0221 / 1642-1545\, E-Mail: info@kfd-koeln.de\n\nKosten / Anmeldung:
 \nKostenfreies Angebot\, Anmeldung erforderlich.\n\nVeranstaltungsort:\nOn
 line via Zoom
END:VEVENT
BEGIN:VTIMEZONE
TZID:Europe/Berlin
X-LIC-LOCATION:Europe/Berlin
BEGIN:STANDARD
DTSTART:20211031T020000
TZOFFSETFROM:+0200
TZOFFSETTO:+0100
TZNAME:CET
END:STANDARD
END:VTIMEZONE
END:VCALENDAR