BEGIN:VCALENDAR
VERSION:2.0
PRODID:-//wp-events-plugin.com//7.2.3.1//EN
TZID:Europe/Berlin
X-WR-TIMEZONE:Europe/Berlin
BEGIN:VEVENT
UID:1184@frauenportal.koeln
DTSTART;TZID=Europe/Berlin:20180920T150000
DTEND;TZID=Europe/Berlin:20180920T190000
DTSTAMP:20190722T074734Z
URL:https://frauenportal.koeln/veranstaltungen/frauen-macht-karriere-die-f
 achtagung-2/
SUMMARY:FRAUEN. MACHT. KARRIERE. Die Fachtagung.
DESCRIPTION:Vorträge\, Diskussionen\, Netzwerken zu den Themen Digitalisie
 rung\, Innovation und Change. Von und mit Frauen aus der Wirtschaft.\n\n15
 .00 Uhr  \nBegrüßung  \nDr. Sandra von Möller\, Vizepräsidentin der IH
 K Köln \n \n15.15 Uhr  \nGrußwort  \nHenriette Reker\, Oberbürgermeiste
 rin der Stadt Köln\n \n15.35 Uhr \nSpiele mit der Macht \nMarion Knaths\,
  Autorin\, www.sheboss.de\n \n16.10 Uhr  \nInterview  \nSolveig Schulze\, 
 Mitgründerin des Innovation Hubs des Lufthansa Konzerns\, https://lh-inno
 vationhub.de/team/\n \n16.45 Uhr Pause \n\n17.00 Uhr \n#Change – Unterne
 hmenskommunikation im digitalen Wandel \nDr. Kerstin Hoffmann\, Kommunikat
 ions- und Strategieberaterin\, „PR-Doktor“\, www.kerstin-hoffmann.de \
 n\n17.45 Uhr Get together\n\nDie Veranstaltung wird moderiert von Steffi N
 eu (WDR)\, https://de.wikipedia.org/wiki/Steffi_Neu\n\nAuch in diesem Jahr
  gibt es wieder eine Kinderbetreuung für Kinder\, die älter als zwei Jah
 re sind.\n\nDownload: IHK-Tagung 2018\n\nVeranstalterin:\nIndustrie- und H
 andelskammer zu Köln\, www.ihk-koeln.de\n\nAnsprechpartner:\nChristopher 
 Meier\, Tel.: 0221 / 1640-6000\, E-Mail: barbara.fusshoeller@koeln.ihk.de\
 n\nKosten / Anmeldung:\nDie Fachtagung richtet sich an Unternehmerinnen so
 wie Fach- und Führungskräfte aus IHK-Mitgliedsunternehmen der IHK Köln.
 \nDie Plätze sind in diesem Jahr begrenzt\, da die Veranstaltung ausschli
 eßlich im Börsen-Saal stattfindet.\nEintritt frei\, Anmeldung erforderli
 ch\n\nVeranstaltungsort:\nIHK Köln\, Unter Sachsenhausen 10-26\, 50667 K
 öln\, [map id=998]
END:VEVENT
BEGIN:VTIMEZONE
TZID:Europe/Berlin
X-LIC-LOCATION:Europe/Berlin
BEGIN:DAYLIGHT
DTSTART:20180325T030000
TZOFFSETFROM:+0100
TZOFFSETTO:+0200
TZNAME:CEST
END:DAYLIGHT
END:VTIMEZONE
END:VCALENDAR