BEGIN:VCALENDAR
VERSION:2.0
PRODID:-//wp-events-plugin.com//7.2.3.1//EN
TZID:Europe/Berlin
X-WR-TIMEZONE:Europe/Berlin
BEGIN:VEVENT
UID:463@frauenportal.koeln
DTSTART;TZID=Europe/Berlin:20170921T150000
DTEND;TZID=Europe/Berlin:20170921T190000
DTSTAMP:20190722T074611Z
URL:https://frauenportal.koeln/veranstaltungen/frauen-macht-karriere-die-f
 achtagung/
SUMMARY:FRAUEN. MACHT. KARRIERE. Die Fachtagung.
DESCRIPTION:Mit drei Keynotes von\n\nHenriette Reker\, Oberbürgermeisterin
  der Stadt Köln\nProf. Dr. Jutta Rump\, Direktorin des Instituts für Bes
 chäftigung und Employability\, Ludwigshafen\nAnna Dimitrova\, Geschäftsf
 ührerin Strategy &amp\; Digital bei Vodafone Deutschland\, Düsseldorf\n\
 nAnschließend findet ein FishBowl mit Publikumsbeteiligung statt und unte
 r Mitwirkung von\n\nNicola Baumann\, Major\, Eurofighter-Pilotin und mögl
 iche erste deutsche Astronautin\nProf. Dr. Sylvia Heuchemer\, Vizepräside
 ntin für Lehre und Studium an der Technischen Hochschule Köln\nDr. Sandr
 a von Möller\, Vizepräsidentin der IHK Köln und Geschäftsführerin der
  BÄRO GmbH &amp\; Co. KG\nJutta Weidenfeller\, stellv. Mitglied des Vorst
 andes der Kreissparkasse Köln\n\nDie Veranstaltung wird moderiert von Ste
 ffi Neu (WDR).\n\nDie Fachtagung richtet sich an Unternehmerinnen sowie Fa
 ch- und Führungskräfte aus IHK-Mitgliedsunternehmen der IHK Köln.\n\nDi
 e Plätze sind in diesem Jahr begrenzt\, da die Veranstaltung ausschließl
 ich im Börsen-Saal stattfindet.\n\nAuch in diesem Jahr gibt es wieder ein
 e Kinderbetreuung für Kinder\, die älter als zwei Jahre sind.\n\nDownloa
 d: IHK 21.09.2017 Save the Date und IHK Einladung Fachtagung 2017\n\nVeran
 stalterin:\nIndustrie- und Handelskammer zu Köln\, www.ihk-koeln.de\n\nAn
 sprechpartner:\nChristopher Meier\, Tel.: 0221 / 1640-6000\, E-Mail: barba
 ra.fusshoeller@koeln.ihk.de\n\nKosten / Anmeldung:\nEintritt frei\, Anmeld
 ung erforderlich\n\nVeranstaltungsort:\nIHK Köln\, Unter Sachsenhausen 10
 -26\, 50667 Köln\, [map id=998]
END:VEVENT
BEGIN:VTIMEZONE
TZID:Europe/Berlin
X-LIC-LOCATION:Europe/Berlin
BEGIN:DAYLIGHT
DTSTART:20170326T030000
TZOFFSETFROM:+0100
TZOFFSETTO:+0200
TZNAME:CEST
END:DAYLIGHT
END:VTIMEZONE
END:VCALENDAR