BEGIN:VCALENDAR
VERSION:2.0
PRODID:-//wp-events-plugin.com//7.2.3.1//EN
TZID:Europe/Berlin
X-WR-TIMEZONE:Europe/Berlin
BEGIN:VEVENT
UID:2899@frauenportal.koeln
DTSTART;TZID=Europe/Berlin:20201110T190000
DTEND;TZID=Europe/Berlin:20201110T203000
DTSTAMP:20251006T074904Z
URL:https://frauenportal.koeln/veranstaltungen/frauen-zwischen-schweigen-u
 nd-schippen-2/
SUMMARY:Frauen zwischen Schweigen und Schippen
DESCRIPTION:- Online-Vortrag -\n\nFrauen erlebten die Zeit zwischen Diktatu
 r\, Kriegsende und Wiederaufbau sehr unterschiedlich. Durch mühsame Repro
 duktionsarbeit sicherten sie das Überleben in der zerstörten Stadt. Die 
 Not der Nachkriegszeit überlagerte die Erinnerung an die zwölf Jahre Nat
 ionalsozialismus\, sodass sich auch Täterinnen als Opfer sehen konnten. W
 ie nahmen Besatzungsmacht und Journalist*innen diese Ambivalenz wahr? Welc
 he Funktion hatten die „Trümmerfrauen“? Frauenausschüsse in Köln en
 twickelten rudimentäre Ansätze von politischer Partizipation. Warum kam 
 es trotz der Stärke und immensen gesellschaftlichen Leistung der Frauen s
 chnell zu einer Restauration der tradierten Geschlechterverhältnisse?\n\n
 Ina Hoerner-Theodor war 40 Jahre in der Erwachsenenbildung tätig\, sie ha
 t mehrere Schriften zu frauen- und lokalgeschichtlichen Themen veröffentl
 icht. Als links-feministische Aktivistin hält sie Vorträge und führt hi
 storische Stadtrundgänge zu frauengeschichtlichen Themen durch.\n\nRefere
 ntin:\nIna Hoerner-Theodor\n\nVeranstalterin:\nVHS Köln\, www.vhs-koeln.d
 e\nin Kooperation mit dem Kölner Frauengeschichtsverein e.V.\n\nKontakt:\
 nTel.: 0221 / 24 82 65\, E-Mail: info@frauengeschichtsverein.de\n\nKosten 
 / Anmeldung:\nEntgelt: 5 Euro.\n\nVeranstaltungsort:\nonline
END:VEVENT
BEGIN:VTIMEZONE
TZID:Europe/Berlin
X-LIC-LOCATION:Europe/Berlin
BEGIN:STANDARD
DTSTART:20201025T020000
TZOFFSETFROM:+0200
TZOFFSETTO:+0100
TZNAME:CET
END:STANDARD
END:VTIMEZONE
END:VCALENDAR