BEGIN:VCALENDAR
VERSION:2.0
PRODID:-//wp-events-plugin.com//7.2.3.1//EN
TZID:Europe/Berlin
X-WR-TIMEZONE:Europe/Berlin
BEGIN:VEVENT
UID:2659@frauenportal.koeln
DTSTART;TZID=Europe/Berlin:20200304T193000
DTEND;TZID=Europe/Berlin:20200304T214500
DTSTAMP:20201105T133933Z
URL:https://frauenportal.koeln/veranstaltungen/frauen-zwischen-schweigen-u
 nd-schippen/
SUMMARY:Frauen zwischen Schweigen und Schippen
DESCRIPTION:- Vortrag -\n\nFrauen erlebten die Zeit zwischen Diktatur\, Kri
 egsende und Wiederaufbau sehr unterschiedlich. Durch mühsame Reproduktion
 sarbeit sicherten sie das Überleben in der zerstörten Stadt. Die Not der
  Nachkriegszeit überlagerte die Erinnerung an die zwölf Jahre Nationalso
 zialismus\, sodass sich auch Täterinnen als Opfer sehen konnten. Wie nahm
 en Besatzungsmacht und Journalist*innen diese Ambivalenz wahr? Welche Funk
 tion hatten die „Trümmerfrauen“? Frauenausschüsse in Köln entwickel
 ten rudimentäre Ansätze von politischer Partizipation. Warum kam es trot
 z der Stärke und immensen gesellschaftlichen Leistung der Frauen schnell 
 zu einer Restauration der tradierten Geschlechterverhältnisse?\n\nIna Hoe
 rner-Theodor war 40 Jahre in der Erwachsenenbildung tätig\, sie hat mehre
 re Schriften zu frauen- und lokalgeschichtlichen Themen veröffentlicht. A
 ls links-feministische Aktivistin hält sie Vorträge und führt historisc
 he Stadtrundgänge zu frauengeschichtlichen Themen durch.\n\nReferentin:\n
 Ina Hoerner-Theodor\n\nVeranstalterin:\nFriedensbildungswerk Köln (www.fr
 iedensbildungswerk.de)\nin Kooperation mit dem Kölner Frauengeschichtsver
 ein e.V.\n\nKontakt:\nTel.: 0221 / 24 82 65\, E-Mail: info@frauengeschicht
 sverein.de\n\nKosten / Anmeldung:\nEintritt frei\, Spenden erbeten\n\nVera
 nstaltungsort:\nFriedensbildungswerk\, Obenmarspforten 7-11\, 50667 Köln\
 , [map id=1086]
END:VEVENT
BEGIN:VTIMEZONE
TZID:Europe/Berlin
X-LIC-LOCATION:Europe/Berlin
BEGIN:STANDARD
DTSTART:20191027T020000
TZOFFSETFROM:+0200
TZOFFSETTO:+0100
TZNAME:CET
END:STANDARD
END:VTIMEZONE
END:VCALENDAR