BEGIN:VCALENDAR
VERSION:2.0
PRODID:-//wp-events-plugin.com//7.2.3.1//EN
TZID:Europe/Berlin
X-WR-TIMEZONE:Europe/Berlin
BEGIN:VEVENT
UID:6175@frauenportal.koeln
DTSTART;TZID=Europe/Berlin:20260415T190000
DTEND;TZID=Europe/Berlin:20260415T210000
DTSTAMP:20260330T124017Z
URL:https://frauenportal.koeln/veranstaltungen/frauen-zwischen-strasse-und
 -strafe/
SUMMARY:Frauen zwischen Straße und Strafe
DESCRIPTION:Ein Vortrag von Petra Metzger über wohnungslose Frauen zwische
 n Sucht\, Haft und Überlebensstrategien.\n\nSchon eine Krankheit oder ein
  Schicksalsschlag kann einen aus der Bahn werfen. Immer mehr ältere Fraue
 n landen in der Obdachlosigkeit\, weil die Rente nicht reicht. Und das ist
  erst der Anfang.\n\nPetra Metzger\, geboren in Köln\, ist Mitglied von A
 rche für Obdachlose e.V. (www.arche-obdach.org) und war dort zeitweilig a
 ls Vorstand tätig. Sie schildert an diesem Abend die Situation\, wenn Fre
 iheit Obdachlosigkeit bedeutet und Frauen von der Härte der Straße und S
 trafe getroffen wieder in ein menschenwürdiges Leben finden möchten. Man
 che Frau hatte ein bürgerlich geordnetes Leben geführt. Wie haben sie ih
 r Zuhause verloren? Warum waren sie inhaftiert? Wo finden sie Unterstützu
 ng? \n\nPetra Metzger erzählt\, warum es so schwer ist\, aus dem Kreislau
 f von Haft und Wohnungslosigkeit auszubrechen. Welche Hilfesysteme würde 
 es brauchen\, um fragwürdigen Haftaufenthalt sowie fehlende Resozialisier
 ung in Entwicklungschancen zu verwandeln?\n\nHier ist die Einladung: SI_Fl
 yer_Frauen zwischen Strasse und Strafe (pdf-Datei\, 481 KB)\n\nVeranstalte
 rin:\nSoroptimist Club Köln-Kolumba\, Soroptimist Clubs Köln\n\nAnsprech
 partnerin:\nMonika Holtschneider\, E-Mail: monikah@si-kolumba.de\n\nKosten
  / Anmeldung:\nUm Anmeldung wird gebeten bis zum 10.04.2026 an veranstaltu
 ng@si-kolumba.de
LOCATION:Hotel Begardenhof\, Brückenstr. 41\, 50996 Köln
GEO:50.89444;6.989289999999983
X-APPLE-STRUCTURED-LOCATION;VALUE=URI;X-ADDRESS=Brückenstr. 41\, Köln\, 5
 0996\, Veranstaltungsort\, Deutschland;X-APPLE-RADIUS=100;X-TITLE=Hotel Be
 gardenhof:geo:50.89444,6.989289999999983
END:VEVENT
BEGIN:VTIMEZONE
TZID:Europe/Berlin
X-LIC-LOCATION:Europe/Berlin
BEGIN:DAYLIGHT
DTSTART:20260329T030000
TZOFFSETFROM:+0100
TZOFFSETTO:+0200
TZNAME:CEST
END:DAYLIGHT
END:VTIMEZONE
END:VCALENDAR