BEGIN:VCALENDAR
VERSION:2.0
PRODID:-//wp-events-plugin.com//7.2.3.1//EN
TZID:Europe/Berlin
X-WR-TIMEZONE:Europe/Berlin
BEGIN:VEVENT
UID:1936@frauenportal.koeln
DTSTART;TZID=Europe/Berlin:20190505T170000
DTEND;TZID=Europe/Berlin:20190505T190000
DTSTAMP:20190430T141758Z
URL:https://frauenportal.koeln/veranstaltungen/frauenbildungshaus-zuelpich
 -im-neuen-gewand/
SUMMARY:Frauenbildungshaus Zülpich im neuen Gewand
DESCRIPTION:- lila_bunt im rubicon im Rahmen der Veranstaltungsreihe „50 
 Jahre Stonewall - 50 Jahre LSBTIQ* Emanzipationsbewegungen“ -\n\nlila_bu
 nt sind eine Gruppe queer-feministischer Frauen*\, die in verschiedenen Fe
 ldern der politischen Bildungsarbeit und der feministischen Mädchen*arbei
 t aktiv sind. Sie teilen  Widersprüche\,  Feminismen  und die  gemeinsame
  Utopie eines schönen Lebens für ALLE. Feministische Bildung\, Praxis un
 d Utopie - Nachfolgerinnen im Frauenbildungshaus Zülpich stellen sich und
  ihr Konzept vor. \n\nVeranstalterinnen:\nrubicon – Beratungszentrum fü
 r Lesben\, Schwule\, Bisexuelle\, Trans* und queere Menschen\, www.rubicon
 -koeln.de\nund \nHer mit dem schönen Leben e.V.\, www.lila-bunt-zuelpich.
 de\n\nAnsprechpartnerin:\nDr. Beate Blatz\, Tel.: 0221 / 27 66 999 -0\, E-
 Mail: info@rubicon-koeln.de\n\nKosten / Anmeldung:\nEintritt frei. Spenden
  sind willkommen.\n\nVeranstaltungsort:\nrubicon\, Rubensstr. 8 - 10\, 506
 76 Köln\, [map id=1045] 
END:VEVENT
BEGIN:VTIMEZONE
TZID:Europe/Berlin
X-LIC-LOCATION:Europe/Berlin
BEGIN:DAYLIGHT
DTSTART:20190331T030000
TZOFFSETFROM:+0100
TZOFFSETTO:+0200
TZNAME:CEST
END:DAYLIGHT
END:VTIMEZONE
END:VCALENDAR