BEGIN:VCALENDAR
VERSION:2.0
PRODID:-//wp-events-plugin.com//7.2.3.1//EN
TZID:Europe/Berlin
X-WR-TIMEZONE:Europe/Berlin
BEGIN:VEVENT
UID:3712@frauenportal.koeln
DTSTART;TZID=Europe/Berlin:20220423T140000
DTEND;TZID=Europe/Berlin:20220423T160000
DTSTAMP:20250715T130427Z
URL:https://frauenportal.koeln/veranstaltungen/frauenchor-konzert-im-alten
 berger-dom-2/
SUMMARY:Frauenchor-Konzert im Altenberger Dom
DESCRIPTION:Unter dem Titel "Laudate Dominum" bietet das Chor-und Orgel-Kon
 zert Werke aus Barock und Romantik sowie Gospel und christliche Popmusik d
 er Gegenwart\, von "Lobe den Herren" über das bekannte "You raise me up" 
 bis zum Friedenslied "Aus der Ferne" (Uraufführung deutscher Text + Satz 
 für Frauenchor).\n\nTraditionsgemäß sind außerdem auch im diesjährige
 n Frühjahrs-Konzert wieder Orgelimprovisationen und Eigenkompositionen vo
 n\nKantor\, Organist und Komponist Sebastian Bange aus Greven zu hören.\n
 \nVeranstalterin:\nFrauenchor der Andreaskirche Schildgen\, www.andreaskir
 che-schildgen.de/angebote/kirchenmusik/frauenchor/\n\nAnsprechpartnerin:\n
 Annegret Akkerman\, Tel. 02202 / 8 21 84\n\nKosten:\nDer Eintritt ist frei
 . Bitte die dann geltenden Hygiene-Bedingungen beachten.\n\nVeranstaltungs
 ort:\nAltenberger Dom\, Eugen-Heinen-Platz 2\, 51519 Odenthal\, [map id=10
 83]
END:VEVENT
BEGIN:VTIMEZONE
TZID:Europe/Berlin
X-LIC-LOCATION:Europe/Berlin
BEGIN:DAYLIGHT
DTSTART:20220327T030000
TZOFFSETFROM:+0100
TZOFFSETTO:+0200
TZNAME:CEST
END:DAYLIGHT
END:VTIMEZONE
END:VCALENDAR