BEGIN:VCALENDAR
VERSION:2.0
PRODID:-//wp-events-plugin.com//7.2.3.1//EN
TZID:Europe/Berlin
X-WR-TIMEZONE:Europe/Berlin
BEGIN:VEVENT
UID:5133@frauenportal.koeln
DTSTART;TZID=Europe/Berlin:20240825T170000
DTEND;TZID=Europe/Berlin:20240825T190000
DTSTAMP:20250715T130456Z
URL:https://frauenportal.koeln/veranstaltungen/frauenchor-sommer-konzert-3
 /
SUMMARY:Frauenchor-Sommer-Konzert
DESCRIPTION:– Von der Freude - Frauenchormusik + Kunst am Flügel –\n\n
 Am Sonntag\, dem 25. August 2024\, um 17 Uhr gestalten der Frauenchor der 
 Andreaskirche Schildgen und Konzert-Pianist Junhui Oskar Liao das traditio
 nelle Sommerkonzert in der Ev. Andreaskirche in 51467 Bergisch-Gladbach Sc
 hildgen\, Voiswinkeler Str. 40.\nAnlässlich des 200. Jubiläums der "Ode 
 an die Freude" (Schiller/ Beethoven) sind Freuden-Lieder von Renaissance b
 is Moderne zu hören. Im Wechsel dazu spielt Junhui Oskar Liao Werke von B
 ach und Mozart. Die musikalische Leitung hat Sieglinde Underberg.\nLiao (*
 2004) ist Student der HfMT-Köln\, Meisterschüler und Preisträger\, und 
 konzertiert in kleinen und großen Sälen\, unter anderem in der Kölner P
 hilharmonie.\nDer Frauenchor der Andreaskirche wurde 1983 gegründet und g
 estaltet regelmäßig Gottesdienste und Benefizkonzerte in der Region.\n\n
 Veranstalterin:\nFrauenchor der Andreaskirche Schildgen\, www.andreaskirch
 e-schildgen.de/angebote/kirchenmusik/frauenchor/\n\nAnsprechpartnerin:\nPe
 tra Bromberg\, Tel.: 02202 / 8 46 15\n\nKosten:\nDer Eintritt ist frei\, e
 s wird um Spenden für den Förderverein der Andreaskirche gebeten.
LOCATION:Andreaskirche Schildgen\, Voiswinkler Str. 40\, 51467 Bergisch-Gla
 dbach
GEO:51.0161267;7.087058299999967
X-APPLE-STRUCTURED-LOCATION;VALUE=URI;X-ADDRESS=Voiswinkler Str. 40\, Bergi
 sch-Gladbach\, 51467\, Veranstaltungsort\, Deutschland;X-APPLE-RADIUS=100;
 X-TITLE=Andreaskirche Schildgen:geo:51.0161267,7.087058299999967
END:VEVENT
BEGIN:VTIMEZONE
TZID:Europe/Berlin
X-LIC-LOCATION:Europe/Berlin
BEGIN:DAYLIGHT
DTSTART:20240331T030000
TZOFFSETFROM:+0100
TZOFFSETTO:+0200
TZNAME:CEST
END:DAYLIGHT
END:VTIMEZONE
END:VCALENDAR