BEGIN:VCALENDAR
VERSION:2.0
PRODID:-//wp-events-plugin.com//7.2.3.1//EN
TZID:Europe/Berlin
X-WR-TIMEZONE:Europe/Berlin
BEGIN:VEVENT
UID:2230@frauenportal.koeln
DTSTART;TZID=Europe/Berlin:20200414T180000
DTEND;TZID=Europe/Berlin:20200414T200000
DTSTAMP:20221130T142426Z
URL:https://frauenportal.koeln/veranstaltungen/frauenforum-koelnagenda-5-2
 020-04-14/
SUMMARY:FrauenForum KölnAgenda
DESCRIPTION:Der Termin findet nicht statt.\n\n- Regelmäßiges Treffen -\n\
 nPolitische Entscheidungen sind in aller Regel noch immer vollkommen gesch
 lechtsblind. Das FrauenForum der KölnAgenda beobachtet die Kölner Stadtp
 olitik\, setzt Impulse und beteiligt sich an Initiativen zur Sicherung von
  Geschlechtergerechtigkeit zukünftiger Entwicklungen. Herzlich willkommen
  sind alle\, die Lust zum Mitmachen haben\, frische Ideen einbringen und g
 emeinsam etwas bewirken wollen.\n\nVeranstalterin:\nKölner FrauenForum\n\
 nKontakt:\nDr. Marita Alami\, Tel.: 0221 / 1397550\, E-Mail: mail@koelner-
 frauenforum.de\n\nKosten / Anmeldung:\nWer Interesse hat\, sich an dieser 
 langfristigen Arbeit zu beteiligen\, ist herzlich willkommen. Ein Kostenbe
 itrag ist nicht erforderlich.\n\nVeranstaltungsort:\nMelanchthon-Akademie 
 Köln\, Kartäuserwall 24b\, 50678 Köln\, [map id=931]
END:VEVENT
BEGIN:VTIMEZONE
TZID:Europe/Berlin
X-LIC-LOCATION:Europe/Berlin
BEGIN:DAYLIGHT
DTSTART:20200329T030000
TZOFFSETFROM:+0100
TZOFFSETTO:+0200
TZNAME:CEST
END:DAYLIGHT
END:VTIMEZONE
END:VCALENDAR