BEGIN:VCALENDAR
VERSION:2.0
PRODID:-//wp-events-plugin.com//7.2.3.1//EN
TZID:Europe/Berlin
X-WR-TIMEZONE:Europe/Berlin
BEGIN:VEVENT
UID:3258@frauenportal.koeln
DTSTART;TZID=Europe/Berlin:20210914T180000
DTEND;TZID=Europe/Berlin:20210914T200000
DTSTAMP:20221130T141940Z
URL:https://frauenportal.koeln/veranstaltungen/frauenforum-koelnagenda-7-2
 021-09-14/
SUMMARY:FrauenForum KölnAgenda
DESCRIPTION:- Regelmäßiges Treffen -\n\nPolitische Entscheidungen sind in
  aller Regel noch immer vollkommen geschlechtsblind. Das FrauenForum der K
 ölnAgenda beobachtet die Kölner Stadtpolitik\, setzt Impulse und beteili
 gt sich an Initiativen zur Sicherung von Geschlechtergerechtigkeit zukünf
 tiger Entwicklungen. Herzlich willkommen sind alle\, die Lust zum Mitmache
 n haben\, frische Ideen einbringen und gemeinsam etwas bewirken wollen.\n\
 nVeranstalterin:\nKölner FrauenForum\n\nKontakt:\nDr. Marita Alami\, Tel.
 : 0221 / 1397550\, E-Mail: mail@koelner-frauenforum.de\n\nKosten / Anmeldu
 ng:\nWer Interesse hat\, sich an dieser langfristigen Arbeit zu beteiligen
 \, ist herzlich willkommen. Ein Kostenbeitrag ist nicht erforderlich. Teil
 nehmen können Genesene\, Geimpfte und Getestete. Mund-Nasen-Schutz (OP-Ma
 ske oder FFP2) ist zu tragen\, am Platz kann die Maske abgelegt werden.\n\
 nVeranstaltungsort:\nMelanchthon-Akademie Köln\, Kartäuserwall 24b\, 506
 78 Köln\, [map id=931]
END:VEVENT
BEGIN:VTIMEZONE
TZID:Europe/Berlin
X-LIC-LOCATION:Europe/Berlin
BEGIN:DAYLIGHT
DTSTART:20210328T030000
TZOFFSETFROM:+0100
TZOFFSETTO:+0200
TZNAME:CEST
END:DAYLIGHT
END:VTIMEZONE
END:VCALENDAR