BEGIN:VCALENDAR
VERSION:2.0
PRODID:-//wp-events-plugin.com//7.2.3.1//EN
TZID:Europe/Berlin
X-WR-TIMEZONE:Europe/Berlin
BEGIN:VEVENT
UID:6086@frauenportal.koeln
DTSTART;TZID=Europe/Berlin:20260228T100000
DTEND;TZID=Europe/Berlin:20260228T130000
DTSTAMP:20260131T121952Z
URL:https://frauenportal.koeln/veranstaltungen/frauenfruehstueckszeit-mit-
 dr-katrin-brockmoeller/
SUMMARY:FrauenFrühstücksZeit mit Dr. Katrin Brockmöller
DESCRIPTION:In den Passionserzählungen kommen einige Frauen vor\, die es g
 emeinsam zu entdecken lohnt.\nDiese biblischen Frauen können uns Begleite
 rinnen sein\, wenn unsere eigenen Wege schwer sind. Ihre Lebenskraft inspi
 riert uns zu neuem Mut – und vor allem zur Begegnung mit der Kraft des L
 ebens!\n\nBei einem reichhaltigen Frühstück gibt es inspirierende Impuls
 e von Dr. Katrin Brockmöller. Die promovierte Theologin ist seit 2014 Dir
 ektorin das Katholischen Bibelwerks e.V. Ihre Zugänge zur Bibel öffnen n
 eue Perspektiven und machen Lust\, gemeinsam weiterzudenken. Mit Leidensch
 aft\, Tiefgang und einem Blick für die Lebensfragen von heute lässt sie 
 biblische Texte lebendig werden.\n\nDie FrauenFrühstücksZeit des kfd-Di
 özesanverbands Köln lädt ein zu anregenden Gesprächen und offenem Aust
 ausch in entspannter Atmosphäre.\nAm Büchertisch kann in einer Auswahl s
 pannender Titel gestöbert und neue Impulse mit nach Hause genommen werden
 .\n\nVeranstalterin:\nKatholische Frauengemeinschaft Deutschlands (kfd) i
 m Erzbistum Köln\n\nAnsprechpartnerin:\nAndrea Monschau\, Tel.: 0221 / 16
 42-1545\, E-Mail: info@kfd-koeln.de \n\nKosten / Anmeldung:\nTeilnahmebeit
 rag: 35 Euro für Interessierte\, 19 Euro für kfd-Mitglieder.\nUm Anmeldu
 ng wird gebeten unter: www.kfd-koeln.de/termine/veranstaltung/FrauenFruehs
 tuecksZeit-2026.02.28/
LOCATION:IN VIA\, Stolzestr. 1a\, 50674 Köln
GEO:50.925185;6.939712
X-APPLE-STRUCTURED-LOCATION;VALUE=URI;X-ADDRESS=Stolzestr. 1a\, Köln\, 506
 74\, Frauenorganisation\, Deutschland;X-APPLE-RADIUS=100;X-TITLE=IN VIA:ge
 o:50.925185,6.939712
END:VEVENT
BEGIN:VTIMEZONE
TZID:Europe/Berlin
X-LIC-LOCATION:Europe/Berlin
BEGIN:STANDARD
DTSTART:20251026T020000
TZOFFSETFROM:+0200
TZOFFSETTO:+0100
TZNAME:CET
END:STANDARD
END:VTIMEZONE
END:VCALENDAR