BEGIN:VCALENDAR
VERSION:2.0
PRODID:-//wp-events-plugin.com//7.2.3.1//EN
TZID:Europe/Berlin
X-WR-TIMEZONE:Europe/Berlin
BEGIN:VEVENT
UID:4421@frauenportal.koeln
DTSTART;TZID=Europe/Berlin:20231022T150000
DTEND;TZID=Europe/Berlin:20231022T170000
DTSTAMP:20230928T112611Z
URL:https://frauenportal.koeln/veranstaltungen/frauengeschichte-hoch-11/
SUMMARY:FrauenGeschichte hoch 11
DESCRIPTION:– Von Safe Spaces für Mädchen bis Femizid an der Kirchenmau
 er –\n\nIn dem Rundgang werden Informationen zu Ereignissen und Orten de
 r Frauengeschichte vermittelt: Von der Biografie einer jüdischen Puppensp
 ielerin bis zur Kritik an der Gründung eines kolonialen Frauenvereins\, v
 om Kampf für das Frauenwahlrecht bis zum Mahnmal für Lesben und Schwule\
 , von der Verfolgung von 'zauberischen' Frauen u.a.m.\n\nVeranstalterin:\n
 Kölner Frauengeschichtsverein e.V.\n\nKontakt:\nTel.: 0221 / 24 82 65\, E
 -Mail: info@frauengeschichtsverein.de\n\nKosten / Anmeldung:\nKostenbeitr
 ag: 12 Euro\n\nTreffpunkt: Kölner Hbf\, Haupteingang\, Nähe Bodyshop
LOCATION:The Body Shop im Hauptbahnhof\, Empfangshalle\, Trankgasse 11\, 50
 667 Köln
GEO:50.942455;6.958053
X-APPLE-STRUCTURED-LOCATION;VALUE=URI;X-ADDRESS=Empfangshalle\, Trankgasse 
 11\, Köln\, 50667\, Veranstaltungsort\, Deutschland;X-APPLE-RADIUS=100;X-
 TITLE=The Body Shop im Hauptbahnhof:geo:50.942455,6.958053
END:VEVENT
BEGIN:VTIMEZONE
TZID:Europe/Berlin
X-LIC-LOCATION:Europe/Berlin
BEGIN:DAYLIGHT
DTSTART:20230326T030000
TZOFFSETFROM:+0100
TZOFFSETTO:+0200
TZNAME:CEST
END:DAYLIGHT
END:VTIMEZONE
END:VCALENDAR