BEGIN:VCALENDAR
VERSION:2.0
PRODID:-//wp-events-plugin.com//7.2.3.1//EN
TZID:Europe/Berlin
X-WR-TIMEZONE:Europe/Berlin
BEGIN:VEVENT
UID:1952@frauenportal.koeln
DTSTART;TZID=Europe/Berlin:20190607T180000
DTEND;TZID=Europe/Berlin:20190607T200000
DTSTAMP:20190603T091619Z
URL:https://frauenportal.koeln/veranstaltungen/frauenhistorische-rheinfahr
 t-4/
SUMMARY:Frauenhistorische Rheinfahrt
DESCRIPTION:Leinen Los! – Frauengeschichten rund um den Rhein\n\nSommer\,
  Sonne\, Wasser und Fahrtwind auf dem Rhein zwischen Köln\, Mülheim und 
 Zündorf.\n\nAuf der  frisch renovierten Willi Ostermann wird durch mehrer
 e Jahrhunderte Kölner Stadt- und Frauengeschichte gereist. Der Rhein prä
 gte das Alltagsleben der Frauen: Sie reisten stromauf und stromab\, arbeit
 eten als Binnenschifferinnen\, brauten Bier\, besuchten Kölner Flussbadea
 nstalten und hinterließen Spuren im neuen Rheinauhafen. Zu hören ist u.a
 . von den ersten englischen Rheintouristinnen\, über die sich viele Deuts
 che mokierten\, über rituelle Reinigungen vor den Toren der Stadt und And
 eres mehr.\n\nModeration: Carolina Brauckmann und Katharina Regenbrecht\n\
 nGetränke und ein kleiner Imbiss können an Bord bestellt werden.\n\nVera
 nstalterin:\nKölner Frauengeschichtsverein e.V.\n\nKontakt:\nTel.: 0221 /
  24 82 65\, E-Mail: info@frauengeschichtsverein.de\n\nKosten / Anmeldung:\
 nKostenbeitrag: 20 Euro inkl. VRS-Ticket\nAnmeldung erforderlich!\n\nVeran
 staltungsort:\nStart- und Endpunkt: Anlegestelle bei der Hohenzollernbrüc
 ke unterhalb des Hauptbahnhofes vis-à-vis vom blauen Musicalzelt\, [map i
 d=947]
END:VEVENT
BEGIN:VTIMEZONE
TZID:Europe/Berlin
X-LIC-LOCATION:Europe/Berlin
BEGIN:DAYLIGHT
DTSTART:20190331T030000
TZOFFSETFROM:+0100
TZOFFSETTO:+0200
TZNAME:CEST
END:DAYLIGHT
END:VTIMEZONE
END:VCALENDAR