BEGIN:VCALENDAR
VERSION:2.0
PRODID:-//wp-events-plugin.com//7.2.3.1//EN
TZID:Europe/Berlin
X-WR-TIMEZONE:Europe/Berlin
BEGIN:VEVENT
UID:4336@frauenportal.koeln
DTSTART;TZID=Europe/Berlin:20230708T143000
DTEND;TZID=Europe/Berlin:20230708T163000
DTSTAMP:20230630T130026Z
URL:https://frauenportal.koeln/veranstaltungen/frauenhistorische-rheinfahr
 t-6/
SUMMARY:Frauenhistorische Rheinfahrt
DESCRIPTION:Willkommen an Bord! – Rheinfahrt mit Carolina Brauckmann und 
 Katharina Regenbrecht.\n\nAuf der Rheinperle wird durch mehrere Jahrhunder
 te Kölner Stadt- und Frauengegeschichte gereist. Zu hören ist von den T
 öchtern der Loreley\, Flussritualen\, Arbeitsalltag und Vergnügen am und
  auf dem Rhein. Mythologie trifft Aktualität: Welche Bedeutung hat der le
 gendäre Strom in Zeiten des Klimawandels und wo sind die neuen Rheintöch
 ter zu treffen?\n\nVeranstalterin:\nKölner Frauengeschichtsverein e.V.\n\
 nKontakt:\nTel.: 0221 / 24 82 65\, E-Mail: info@frauengeschichtsverein.de\
 n\nKosten / Anmeldung:\nKosten: 28 € zzgl. VVK-Gebühren\, VVK erforderl
 ich unter: www.qultor.de/veranstaltungen/frauenhistorische-rheinfahrt\n\nS
 tart- und Endpunkt: Anlegestelle der „Willi Ostermann“ an der Hohenzol
 lernbrücke\nEinchecken ab 14:15\, Ablegen 14:30\, Anlegen 16:30\, Ende Au
 schecken 16:45 Uhr!
LOCATION:Schiffsanleger 10 Hohenzollernbrücke\, Anleger 10 der KölnTouris
 tik Personenschiffahrt\, 50667 Köln
GEO:50.942472;6.96302
X-APPLE-STRUCTURED-LOCATION;VALUE=URI;X-ADDRESS=Anleger 10 der KölnTourist
 ik Personenschiffahrt\, Köln\, 50667\, Veranstaltungsort\, Deutschland;X-
 APPLE-RADIUS=100;X-TITLE=Schiffsanleger 10 Hohenzollernbrücke:geo:50.9424
 72,6.96302
END:VEVENT
BEGIN:VTIMEZONE
TZID:Europe/Berlin
X-LIC-LOCATION:Europe/Berlin
BEGIN:DAYLIGHT
DTSTART:20230326T030000
TZOFFSETFROM:+0100
TZOFFSETTO:+0200
TZNAME:CEST
END:DAYLIGHT
END:VTIMEZONE
END:VCALENDAR