BEGIN:VCALENDAR
VERSION:2.0
PRODID:-//wp-events-plugin.com//7.2.3.1//EN
TZID:Europe/Berlin
X-WR-TIMEZONE:Europe/Berlin
BEGIN:VEVENT
UID:4597@frauenportal.koeln
DTSTART;TZID=Europe/Berlin:20231203T150000
DTEND;TZID=Europe/Berlin:20231203T170000
DTSTAMP:20231219T161730Z
URL:https://frauenportal.koeln/veranstaltungen/frauenmuseum-kostenlose-off
 ene-fuehrung/
SUMMARY:Frauenmuseum: Kostenlose offene Führung
DESCRIPTION:Führung durch das Museum.\n\nVeranstalterin:\nFrauenmuseum\n\n
 Ansprechpartnerin:\nTel: 0228 / 691344\, E-Mail: frauenmuseum@bonn-online.
 com\n&nbsp\;\nKontakt:\nEintritt 10 / 6 €\, die Führung ist kostenlos. 
 Keine Anmeldung notwendig. Treffpunkt an der Kasse.
LOCATION:Frauenmuseum\, Im Krausfeld 10\, 53111 Bonn
GEO:50.74042739999999;7.092034399999989
X-APPLE-STRUCTURED-LOCATION;VALUE=URI;X-ADDRESS=Im Krausfeld 10\, Bonn\, 53
 111\, Frauenorganisation\, Deutschland;X-APPLE-RADIUS=100;X-TITLE=Frauenmu
 seum:geo:50.74042739999999,7.092034399999989
END:VEVENT
BEGIN:VTIMEZONE
TZID:Europe/Berlin
X-LIC-LOCATION:Europe/Berlin
BEGIN:STANDARD
DTSTART:20231029T020000
TZOFFSETFROM:+0200
TZOFFSETTO:+0100
TZNAME:CET
END:STANDARD
END:VTIMEZONE
END:VCALENDAR