BEGIN:VCALENDAR
VERSION:2.0
PRODID:-//wp-events-plugin.com//7.2.3.1//EN
TZID:Europe/Berlin
X-WR-TIMEZONE:Europe/Berlin
BEGIN:VEVENT
UID:2786@frauenportal.koeln
DTSTART;TZID=Europe/Berlin:20200830T143000
DTEND;TZID=Europe/Berlin:20200830T210000
DTSTAMP:20200630T101622Z
URL:https://frauenportal.koeln/veranstaltungen/frauenmusikclub-sommerfest-
 4/
SUMMARY:FrauenMusikClub Sommerfest
DESCRIPTION:Hier ist die Einladung des FMCK:\n"Hallo Ihr Lieben.\nTrotz all
  der widrigen Coronaumstände wollen wir doch ein kleines Sommerfest veran
 stalten.\nDiesmal allerdings ohne Essen. Also kein Grill\, kein Buffett od
 er so...\nNatürlich könnt ihr euch privat eine Stulle oder ähnliches mi
 tbringen.\nWir sorgen natürlich für Getränke\, diesmal ausschließlich 
 aus Flaschen.\nUnd wir halten uns an alle Abstandregeln und hygienische Ma
 ßnahmen.\nAber das Wichtigste\, es gibt Live Musik.\nMit dabei sind (Reih
 enfolge noch unklar):\nSound Therapy\nSamBad Girls\nTitanic\n2 links von B
 \nDie Südstadtperlen (noch unter Vorbehalt)\nSave the date!\n30. August 2
 020\, 14:30 Uhr\nOrt wie immer\, an unserem Büro in Ehrenfeld\,\nOskar- J
 äger- Str. 175\, 50825 Köln\, ganz in den Hinterhof reinfahren (Richtung
  Domstädter\, Bühnen der Stadt Köln)\nDas klappt allerdings nur wenn da
 s Wetter mitspielt.\nIhr bekommt über diesen Kanal 24 Std vorher Bescheid
 \, falls es ausfallen muß.\nAnsonsten sind wir auch über unser Handy zu 
 erreichen:\n0157/74777341\nWir freuen uns auf das mit Abstand schönste So
 mmerfest mit euch!\nViele Grüße\ni.A. Gaby"\nVeranstalterin:\nFrauenmusi
 kclub Köln e.V.\n\nKontakt:\nTelefon: 0221 / 5 10 23 28\nE-Mail: frauen-m
 usik-club-koeln@gmx.de\n\nVeranstaltungsort:\nFrauenmusikclub Köln e.V. B
 üro: Oskar-Jäger-Str. 175 (Hinterhof: ganz nach hinten durchfahren!)\, 5
 0825 Köln\, [map id=1064]
END:VEVENT
BEGIN:VTIMEZONE
TZID:Europe/Berlin
X-LIC-LOCATION:Europe/Berlin
BEGIN:DAYLIGHT
DTSTART:20200329T030000
TZOFFSETFROM:+0100
TZOFFSETTO:+0200
TZNAME:CEST
END:DAYLIGHT
END:VTIMEZONE
END:VCALENDAR