BEGIN:VCALENDAR
VERSION:2.0
PRODID:-//wp-events-plugin.com//7.2.3.1//EN
TZID:Europe/Berlin
X-WR-TIMEZONE:Europe/Berlin
BEGIN:VEVENT
UID:500@frauenportal.koeln
DTSTART;TZID=Europe/Berlin:20170916T160000
DTEND;TZID=Europe/Berlin:20170916T190000
DTSTAMP:20170831T165110Z
URL:https://frauenportal.koeln/veranstaltungen/frauenmusikclub-sommerfest/
SUMMARY:FrauenMusikClub Sommerfest
DESCRIPTION:Hier ist die Einladung des FMCK:"Wie jedes Jahr möchten wir eu
 ch auch 2017 wieder zu unserem FrauenMusikClub Sommerfest einladen.\n \nGe
 feiert wird am Samstag\, den 16. September\, ab 16 Uhr.\n \nEs gibt wieder
  ganz viel Live Musik und für später auch Tanzbares aus der Konserve...s
 chließlich wollen die Tofuwürstchen und Scampispieße auch wieder abgeta
 nzt werden \;-)\nWir bieten euch Getränke\, Brot und Snacks.\nBitte bring
 t euer Grillgut selber mit.\nNatürlich freuen wir uns auch sehr über Sal
 at- oder Kuchenspenden!!!!\nAlso packt eure Frauen\, Männer\, Mütter\, V
 äter\, Kinder\, Hunde\, FreundInnen und sonstige Verwandtschaft ein und k
 ommt zahlreich zur großen Sause!!!!!"Veranstalterin:Frauenmusikclub Köln
  e.V.Kontakt:Telefon: 0221 / 5 10 23 28E-Mail: frauen-musik-club-koeln@gmx
 .deVeranstaltungsort:Frauenmusikclub Köln e.V. Büro: Oskar-Jäger-Str. 1
 75 (Hinterhof: ganz nach hinten durchfahren!)\, 50825 Köln\, [map id=1064
 ]
END:VEVENT
BEGIN:VTIMEZONE
TZID:Europe/Berlin
X-LIC-LOCATION:Europe/Berlin
BEGIN:DAYLIGHT
DTSTART:20170326T030000
TZOFFSETFROM:+0100
TZOFFSETTO:+0200
TZNAME:CEST
END:DAYLIGHT
END:VTIMEZONE
END:VCALENDAR