BEGIN:VCALENDAR
VERSION:2.0
PRODID:-//wp-events-plugin.com//7.2.3.1//EN
TZID:Europe/Berlin
X-WR-TIMEZONE:Europe/Berlin
BEGIN:VEVENT
UID:5004@frauenportal.koeln
DTSTART;TZID=Europe/Berlin:20240705T180000
DTEND;TZID=Europe/Berlin:20240705T200000
DTSTAMP:20240628T093205Z
URL:https://frauenportal.koeln/veranstaltungen/frauentreffpunkt-2024-07-05
 /
SUMMARY:Offener Clubabend im Beginenfenster
DESCRIPTION:Monatlicher Frauen*Treffpunkt als Club-Abend im Beginenfenster 
 am 1. Freitag im Monat.\nBeginn: 18 Uhr\nEnde: zeigt sich am jeweiligen Ab
 end\n\nDieses Mal ist es ein besonderer Spieleabend!\n\nNein\, es wird kei
 n Fussball gespielt (das Beginenfester ist Fussball-freie Zone)\, sondern 
 es ist eine von Millionen gespielte Gruppenaktion\, deren Regeln vor Ort v
 on versierten Spielerinnen vorgestellt werden. Das Spiel ist ein sehr gute
 r Einstieg für den gemütlichen Abend unter Frauen*.\n\nDie Begrüßung 
 übernehmen an diesem Abend die "Bardamen" der Projektgruppe BeginenVilla\
 , dem Frauen-Wohnprojekt in Planung. Sie bieten leckere Cocktails (mit ode
 r ohne "Alk") sowie weitere gekühlte Getränke an. Eine DJane (mittlerwei
 le bekannt als "die Ukulelefrau"!) sorgt für anregende musikalische Unter
 haltung.\n \nBitte beachten: \nWegen der Herren-Fußfall-EM ist der Zugang
  zum Beginenfenster über den Heumarkt nur durch Umgegehen der Gitter um d
 en Heumarkt herum möglich. \n\nVeranstalterin:\nBeginenSalon/Beginen Köl
 n e.V.\n\nAnsprechpartnerin:\nBrigitte Schäfer\, Sprecherin BeginenSalon\
 , E-Mail: info@beginenvilla.koeln\n\nKosten:\nEintritt frei.
LOCATION:Beginenfenster Köln\, Markmannsgasse 7\, 50667 Köln
GEO:50.936778;6.961977
X-APPLE-STRUCTURED-LOCATION;VALUE=URI;X-ADDRESS=Markmannsgasse 7\, Köln\, 
 50667\, Frauenorganisation\, Deutschland;X-APPLE-RADIUS=100;X-TITLE=Begine
 nfenster Köln:geo:50.936778,6.961977
END:VEVENT
BEGIN:VTIMEZONE
TZID:Europe/Berlin
X-LIC-LOCATION:Europe/Berlin
BEGIN:DAYLIGHT
DTSTART:20240331T030000
TZOFFSETFROM:+0100
TZOFFSETTO:+0200
TZNAME:CEST
END:DAYLIGHT
END:VTIMEZONE
END:VCALENDAR